Workbook

Sheet Průvodní list
B6: Kompenzační model SOHZ
B8: Účel tohoto výpočtového modelu je dvojí: 1) Je určen žadatelům a příjemcům dotací ke kontrole a prevenci překompenzace. Mohou tento model použít k odhadu nákladů, přínosů a kompenzací, které vyplývají z činností SOHZ tak, jak jsou definovány v pověřovacím aktu. 2) Musí ho vyplnit příjemce vyrovnávací platby v rámci SOHZ a předložit jej kontrolním orgánům. To je požadováno každé tři roky po dobu trvání pověření.
B9: Právní ustanovení rozhodnutí EU o SOHZ
B11: Připomínáme (potenciálním) příjemcům, že kompenzace se poskytuje za podmínek popsaných v rozhodnutí Komise 2012/21/EU, známém jako rozhodnutí o SOHZ. Toto rozhodnutí umožňuje členským státům kompenzovat čisté náklady na SOHZ související s poskytováním sociálního bydlení bez nutnosti oznamování (notifikace) a bez omezení výše kompenzace. Členské státy proto musí zajistit, aby vyrovnávací platba poskytnutá za provozování služby obecného hospodářského zájmu splňovala požadavky stanovené v uvedeném rozhodnutí, zejména aby podnik neobdržel kompenzaci přesahující částku stanovenou v souladu s článkem 5 směrnice o SOHZ, která stanoví, že výše kompenzace nepřesáhne částku nezbytnou k pokrytí čistých nákladů vzniklých při plnění závazků veřejné služby, včetně přiměřeného zisku.
B12: =HYPERLINK("#'Pokyny k použití'!A1","Na některé buňky lze kliknout a přejít na příslušné části s dalšími informacemi. Kliknutím zde přejdete na list ""Pokyny k použití"".") -> Na některé buňky lze kliknout a přejít na příslušné části s dalšími informacemi. Kliknutím zde přejdete na list "Pokyny k použití".

Sheet Pokyny k použití
C2: Pokyny k použití modelu
C3: Výpočtový model vyžaduje verzi MS EXCEL (Excel 2021 nebo novější, Excel pro Microsoft 365, Excel Online).
C4: Pro zadávání hodnot lze použít pouze pole označená oranžově. Ostatní pole obsahují výpočty. Jsou uzamčena a neměla by se měnit.
C7: Použití modelu během období pověření k vykazování
C8: Po schválení dotace a vstoupení pověřovacího aktu v účinnost bude nutné model pravidelně aktualizovat na základě skutečných nákladů, investic, vyrovnávacích plateb a výnosů. Je třeba vyplnit pouze skutečně realizované údaje od počátku do posledního vykazovaného období. Budoucí roky by měly zůstat nevyplněny. Skutečné náklady a výnosy je nutné interně sledovat – nejlépe na roční bázi – aby se snížilo riziko překompenzace. Průběžná kontrola probíhá v tříletých obdobích. Referenční období začíná dnem podpisu pověřovacího aktu a trvá po dobu pověření.
C10: =HYPERLINK("#'Parametry'!C5","Krok 1. Vyplňte všechny relevantní údaje na listu ""Parametry""") -> Krok 1. Vyplňte všechny relevantní údaje na listu "Parametry"
C13: =HYPERLINK("#'Vstupy ex post'!C2","Krok 2. Všechny skutečně realizované investice, kompenzace, náklady a výnosy související se SOHZ je potřeba pro každý rok během celé doby trvání pověřovacího aktu vyplnit do oranžových polí na listu ""Vstupy ex post"".") -> Krok 2. Všechny skutečně realizované investice, kompenzace, náklady a výnosy související se SOHZ je potřeba pro každý rok během celé doby trvání pověřovacího aktu vyplnit do oranžových polí na listu "Vstupy ex post".
C17: Výpočty pro kontrolu překompenzace
C18: Model ex post kontroluje překompenzaci zaprvé tak, že vezme skutečné čisté náklady, jak jsou vykázány žadatelem za roky až do vykazovaného období (list „Vstupy ex post“), a poté vypočítá čistou hodnotu k období prvního roku pověření (list „Diskontované hodnoty ex post“). Kompenzace se pak porovná s čistými náklady, které představuje maximální výši kompenzace. Pro porovnání jsou kompenzace i čisté náklady převedeny do hodnoty prvního roku pověření. Toto se provádí celkem za celou dobu trvání pověření a za každé vykazované období (viz list „Kontrola ex post“). Pokud v jednom z vykazovaných období překročí překompenzace 10 % průměrné roční kompenzace, vypočítá se splátka; jinak se překompenzace převádí do dalšího období.
C20: Vyplňování nákladů, příjmů a výdajů
C21: Veškeré náklady, příjmy a výdaje se musí týkat pouze té části nemovitosti, která je využívána pro poskytování sociálního bydlení v rámci SOHZ. Pokud je nemovitost využívána i jiným účelům než k poskytování sociálního bydlení v rámci SOHZ, musí být výdaje vykázány v odpovídajícím poměru. Příslušný poměr vychází z podílu metrů čtverečních využívaných pro SOHZ na celkovém množství metrů čtverečních všech jednotlivých obytných ploch. Na základě tohoto poměru by měly být rozděleny i výdaje spojené s prostory, které jsou využívány jak pro SOHZ, tak pro jiné služby (např. vstupní hala, výtah, společné prostory). Způsobilé náklady je nutné doložit. Současná hodnota nepeněžitého vkladu majetku, jako jsou pozemky nebo budovy, musí být stanovena nezávislým znalcem.
C23: Vysvětlení pojmů využitých v modelu
C25: Údaj | D25: Vysvětlení údaje
C29: Parametry
C30: Referenční období | D30: Doba trvání pověření k výkonu služby sociálního bydlení v rámci SOHZ, které udělil zadavatel, je stanovena na 20 až 30 let.
C31: Diskontní sazba | D31: Swapová sazba pro 10letý horizont uveřejněná EK pro účely rozhodnutí o SOHZ ke dni vydání pověřovacího aktu, viz: https://competition-policy.ec.europa.eu/state-aid/legislation/sgei/swap-rate-proxies_en
C32: Rok zahájení projektu | D32: Rok zahájení investičního projektu podle pověřovacího aktu
C37: Investice do SOHZ
C39: Náklady v provozní fázi projektu
C40: Údržba | D40: Veškeré výdaje na údržbu pořízeného majetku s cílem oddálit fyzické zastarávání a opravit drobné závady.
C41: Opravy | D41: Veškeré výdaje na opravy nabytého majetku za účelem odstranění částečného fyzického opotřebení nebo poškození a jeho uvedení do předchozího nebo provozuschopného stavu včetně použití neoriginálních materiálů, dílů, součástí nebo technologií. Nesmí dojít k technickému zhodnocení.
C42: Náklady na vylepšení | D42: Náklady na investice, jejichž výsledkem je technické zhodnocení majetku. Technickým zhodnocením je podle zákona o účetnictví a zákona o daních z příjmů provedení všech stavebních úprav, přístaveb, rekonstrukcí a modernizací, pokud je u dané akce za dané účetní a zdaňovací období překročena částka 40 000 Kč. Veškeré kapitálové výdaje se musí týkat pouze té části nemovitosti, kterou poskytovatel využívá k poskytování služby sociálního bydlení. Tyto výdaje jsou považovány za kapitálové výdaje (CAPEX), které zvyšují (zůstatkovou) hodnotu nemovitosti.
C43: Mzdové výdaje | D43: Mzdové výdaje související s poskytováním služeb sociálního pracovníka a správce. Veškeré mzdové výdaje se musí týkat pouze té části nemovitosti, kterou poskytovatel používá k poskytování sociálního bydlení v rámci SOHZ. Nelze zahrnout mzdové náklady vyplácené v rámci jiného programu nebo činnosti týkajících se sociálního bydlení.
C44: Nepřímé náklady | D44: Jakékoli náklady nebo výdaje v jedné z kategorií nákladů, které nelze přímo a výlučně přiřadit konkrétnímu výstupu SOHZ (produkt, služba), musí být zaúčtovány pouze poměrným podílem. K výpočtu poměrného podílu těchto nepřímých nákladů byla zvolena sazba 7% z přímých nákladů.
C45: Rezervy na očekávatelné povinné modernizace | D45: Roční povinné rezervy na modernizaci. Tyto rezervy lze použít pouze ke splnění nových právních požadavků na zvýšení standardů služeb SOHZ včetně standardů energetické účinnosti a obnovitelných zdrojů, standardů kvality bydlení a dalších zákonných požadavků na sociální bydlení, které se týkají poskytovatelů SOHZ. Nevyužité rezervy musí být odečteny na konci období pověření s výjimkou případu nedostatečné kompenzace, jejíž částka je stejná nebo větší než rezerva.
C46: Finanční náklady | D46: Finanční náklady (úroky, poplatky atd.), které přímo souvisejí se službou obecného hospodářského zájmu. Např. úrokové náklady a bankovní poplatky související s překlenovacím úvěrem do doby vyplacení grantu příjemci. Na spolufinancování projektu lze získat i úvěr.
C48: Příjmy v provozní fázi projektu
C49: Nájemné | D49: Výše inkasovaného nájemného. Stanovené nájemné nesmí překročit aktuálně stanovené maximum.
C50: Další granty nebo veřejná podpora | D50: Dotace přijaté z příslušného programu nebo od jiných veřejných orgánů poskytnutých jako kompenzace za SOHZ
C51: Ostatní peněžní a nepeněžní příjmy | D51: Peněžní a nepeněžní příjmy plynoucí z činností SOHZ (např. úroky z bankovních účtů)
C52: Zůstatková hodnota | D52: Hodnota daná skutečností, že některá aktiva projektu mohou mít delší životnost než období pověření. Zůstatkovou hodnotu celkových investičních nákladů je potřeba započítat do posledního roku období pověření. Prodej investic do SOHZ (jejich částí) během období pověření by měl být zahrnut stejně jako zůstatková hodnota v příslušném roce. Na základě konstantních ročních odpisů a ekonomické životnosti 30 let bude zůstatková hodnota v kterémkoli roce: celkové investiční náklady x (1 - (rok Y / 30 let odpisování)). Pokud bude majetek prodán, do výpočtu se zahrnou výnosy z prodeje.
C54: Nadměrná kompenzace
C55: Přenos | D55: Pokud nadměrná kompenzace nepřesáhne 10 % průměrné roční kompenzace, pravidla EU umožňují převést až 10 % do dalšího období a zabraňují vrácení kompenzace. Částka nadměrné kompenzace se přičte k dalšímu období. Pro zamezení nadměrné kompenzace v následujících letech, by mělo být např. o stejnou částku sníženo nájemné účtované poskytovatelem sociálního bydlení v příštím tříletém období nebo by mělo být přijato jiné opatření ke snížení návratnosti a zamezení nadměrné kompenzace v následujících letech.
C56: Výše vratky | D56: Nadměrná kompenzace přesahuje 10 % průměrné roční kompenzační platby a musí být vrácena v plné výši. Protože se částky kontrolují v hodnotě k prvnímu roku pověření, je potřeba jejich hodnotu převést do daného roku, ve kterém má provozovatel kompenzaci vrátit.

Sheet Obsah
B2: Obsah
B4: =HYPERLINK("#'Pokyny k použití'!A1","Pokyny k použití") -> Pokyny k použití
B5: =HYPERLINK("#'Parametry'!A1","Parametry") -> Parametry
B9: Výpočty ex post:
B10: =HYPERLINK("#'Vstupy ex post'!A1","Vstupy ex post") -> Vstupy ex post
B11: =HYPERLINK("#'Diskontované hodnoty ex post'!A1","Diskontované hodnoty ex post") -> Diskontované hodnoty ex post
B12: =HYPERLINK("#'Kontrola ex post'!A1","Kontrola ex post") -> Kontrola ex post

Sheet Parametry
B2: Seznam parametrů použitých v modelu
B4: Název projektu | C4: Projekt
B5: =HYPERLINK("#'Pokyny k použití'!C32","Rok zahájení projektu") -> Rok zahájení projektu | C5: 2023
B6: Rok kontroly | C6: 2025
B7: =HYPERLINK("#'Pokyny k použití'!C30","Doba trvání pověření SOHZ") -> Doba trvání pověření SOHZ | C7: 20 | D7: let
B8: =HYPERLINK("#'Pokyny k použití'!C31","Diskontní sazba") -> Diskontní sazba | C8: 0.0543 | D8: %
B9: Kontrolní období nadměrné kompenzace | C9: 3 | D9: roky
B10: =HYPERLINK("#'Pokyny k použití'!C44","Míra nepřímých nákladů") -> Míra nepřímých nákladů | C10: 0.07 | D10: %
B11: Doba odpisování nemovitosti | C11: 30 | D11: let

Sheet Vstupy ex ante
C2: Vstupní data pro ex ante kontrolu nadměrné kompenzace
C3: (částky v Kč)
D4: Rok pověření | F4: 1 | G4: =F4+1 -> 2 | H4: =G4+1 -> 3 | I4: =H4+1 -> 4 | J4: =I4+1 -> 5 | K4: =J4+1 -> 6 | L4: =K4+1 -> 7 | M4: =L4+1 -> 8 | N4: =M4+1 -> 9 | ... AI4: =AH4+1 -> 30 | AJ4: +++
F5: =IF(F4<=Parametry!$C$7,1,0) -> 1 | G5: =IF(G4<=Parametry!$C$7,1,0) -> 1 | H5: =IF(H4<=Parametry!$C$7,1,0) -> 1 | I5: =IF(I4<=Parametry!$C$7,1,0) -> 1 | J5: =IF(J4<=Parametry!$C$7,1,0) -> 1 | K5: =IF(K4<=Parametry!$C$7,1,0) -> 1 | L5: =IF(L4<=Parametry!$C$7,1,0) -> 1 | M5: =IF(M4<=Parametry!$C$7,1,0) -> 1 | ... XFD5: =IF(XFD4<=Parametry!$C$7,1,0) -> 1
B6: Rozpočet investiční fáze projektu | AJ6: +++
B7: 1 | C7: Celkové náklady v investiční fázi projektu | D7: =SUM(F7:AI7) -> 0 | F7: =F8+F9 -> 0 | G7: =G8+G9 -> 0 | H7: =H8+H9 -> 0 | I7: =I8+I9 -> 0 | J7: =J8+J9 -> 0 | K7: =K8+K9 -> 0 | L7: =L8+L9 -> 0 | M7: =M8+M9 -> 0 | ... XFD7: =XFD8+XFD9 -> 0
B8: 1.1 | C8: Celkové investiční náklady | D8: =SUM(F8:AI8) -> 0
B9: 1.3 | C9: Celkové neinvestiční náklady | D9: =SUM(F9:AI9) -> 0
B10: 2 | C10: Celková dotace | D10: =SUM(F10:AI10) -> 0
AJ11: +++
B12: Finanční plán provozní fáze projektu | AJ12: +++
B13: 3 | C13: Celkové náklady v provozní fáze projektu | D13: =SUM(F13:AI13) -> 0 | F13: =SUM(F14:F20) -> 0 | G13: =SUM(G14:G20) -> 0 | H13: =SUM(H14:H20) -> 0 | I13: =SUM(I14:I20) -> 0 | J13: =SUM(J14:J20) -> 0 | K13: =SUM(K14:K20) -> 0 | L13: =SUM(L14:L20) -> 0 | M13: =SUM(M14:M20) -> 0 | ... XFD13: =SUM(XFD14:XFD20) -> 0
B14: 3.1 | C14: =HYPERLINK("#'Pokyny k použití'!C46","Plánovaná údržba") -> Plánovaná údržba | D14: =SUM(F14:AI14) -> 0 | AJ14: +++
B15: 3.2 | C15: =HYPERLINK("#'Pokyny k použití'!C47","Opravy") -> Opravy | D15: =SUM(F15:AI15) -> 0 | AJ15: +++
B16: 3.3 | C16: =HYPERLINK("#'Pokyny k použití'!C48","Náklady na vylepšení") -> Náklady na vylepšení | D16: =SUM(F16:AI16) -> 0 | AJ16: +++
B17: 3.4 | C17: =HYPERLINK("#'Pokyny k použití'!C49","Mzdové výdaje na sociální pracovníky či správce nemovitosti") -> Mzdové výdaje na sociální pracovníky či správce nemovitosti | D17: =SUM(F17:AI17) -> 0
B18: 3.5 | C18: =HYPERLINK("#'Pokyny k použití'!C50","Nepřímé náklady") -> Nepřímé náklady | D18: =SUM(F18:AI18) -> 0 | F18: =Parametry!$C$10*(F14+F15+F16+F17) -> 0 | G18: =Parametry!$C$10*(G14+G15+G16+G17) -> 0 | H18: =Parametry!$C$10*(H14+H15+H16+H17) -> 0 | I18: =Parametry!$C$10*(I14+I15+I16+I17) -> 0 | J18: =Parametry!$C$10*(J14+J15+J16+J17) -> 0 | K18: =Parametry!$C$10*(K14+K15+K16+K17) -> 0 | L18: =Parametry!$C$10*(L14+L15+L16+L17) -> 0 | M18: =Parametry!$C$10*(M14+M15+M16+M17) -> 0 | ... XFD18: =Parametry!$C$10*(XFD14+XFD15+XFD16+XFD17) -> 0
B19: 3.6 | C19: =HYPERLINK("#'Pokyny k použití'!C51","Rezervy pro očekávatelnou povinnou modernizaci") -> Rezervy pro očekávatelnou povinnou modernizaci | D19: =SUM(F19:AI19) -> 0
B20: 3.7 | C20: =HYPERLINK("#'Pokyny k použití'!C52","Finanční náklady") -> Finanční náklady | D20: =SUM(F20:AI20) -> 0
B21: 4 | C21: Celkové výnosy v provozní fázi projektu | D21: =SUM(F21:AI21) -> 0 | F21: =SUM(F22:F24) -> 0 | G21: =SUM(G22:G24) -> 0 | H21: =SUM(H22:H24) -> 0 | I21: =SUM(I22:I24) -> 0 | J21: =SUM(J22:J24) -> 0 | K21: =SUM(K22:K24) -> 0 | L21: =SUM(L22:L24) -> 0 | M21: =SUM(M22:M24) -> 0 | ... XFD21: =SUM(XFD22:XFD24) -> 0
B22: 4.1 | C22: =HYPERLINK("#'Pokyny k použití'!C55","Nájemné") -> Nájemné | D22: =SUM(F22:AI22) -> 0 | AJ22: +++
B23: 4.2 | C23: =HYPERLINK("#'Pokyny k použití'!C56","Další granty nebo veřejná podpora") -> Další granty nebo veřejná podpora | D23: =SUM(F23:AI23) -> 0 | AJ23: +++
B24: 4.3 | C24: =HYPERLINK("#'Pokyny k použití'!C57","Ostatní peněžní a nepeněžní příjmy") -> Ostatní peněžní a nepeněžní příjmy | D24: =SUM(F24:AI24) -> 0 | AJ24: +++
B26: 5 | C26: =HYPERLINK("#'Pokyny k použití'!C64","Zůstatková hodnota investice") -> Zůstatková hodnota investice | D26: =SUM(F26:AI26) -> 0 | F26: =(IF(F4=Parametry!$C$7,$D$8*(1-(F4/Parametry!$C$11)),0))*F5 -> 0 | G26: =(IF(G4=Parametry!$C$7,$D$8*(1-(G4/Parametry!$C$11)),0))*G5 -> 0 | H26: =(IF(H4=Parametry!$C$7,$D$8*(1-(H4/Parametry!$C$11)),0))*H5 -> 0 | I26: =(IF(I4=Parametry!$C$7,$D$8*(1-(I4/Parametry!$C$11)),0))*I5 -> 0 | J26: =(IF(J4=Parametry!$C$7,$D$8*(1-(J4/Parametry!$C$11)),0))*J5 -> 0 | K26: =(IF(K4=Parametry!$C$7,$D$8*(1-(K4/Parametry!$C$11)),0))*K5 -> 0 | L26: =(IF(L4=Parametry!$C$7,$D$8*(1-(L4/Parametry!$C$11)),0))*L5 -> 0 | M26: =(IF(M4=Parametry!$C$7,$D$8*(1-(M4/Parametry!$C$11)),0))*M5 -> 0 | ... XFD26: =(IF(XFD4=Parametry!$C$7,$D$8*(1-(XFD4/Parametry!$C$11)),0))*XFD5 -> 0
AJ27: +++

Sheet Diskontované hodnoty ex ante
B2: Diskontované hodnoty
B4: =HYPERLINK("#'Pokyny k použití'!C36","Referenční období") -> Referenční období | C4: Náklady a výnosy (očekávané hodnoty) | I4: Diskontované hodnoty
B5: 0 | C5: Celkové náklady v investiční fázi projektu | D5: Zůstatková hodnota investice | E5: Dotace | F5: Náklady v provozní fázi | G5: Výnosy v provozní fázi | H5: Čistý náklad (-) nebo výnos (+) | I5: Čistá současná hodnota tvořená náklady (-) a výnosy (+) (NPV) | J5: Kompenzace
B6: 1 | C6: =IF($B6="-","-",-INDEX('Vstupy ex ante'!$F$7:$AI$7,1,$B6)) -> 0 | D6: =IF($B6="-","-",INDEX('Vstupy ex ante'!$F$26:$AI$26,1,$B6)) -> 0 | E6: =IF($B6="-","-",INDEX('Vstupy ex ante'!$F$10:$AI$10,1,$B6)) -> 0 | F6: =IF($B6="-","-",-(INDEX('Vstupy ex ante'!$F$13:$AI$13,1,$B6))) -> 0 | G6: =IF($B6="-","-",INDEX('Vstupy ex ante'!$F$21:$AI$21,1,$B6)) -> 0 | H6: =IF($B6="-","-",C6+D6+F6+G6) -> 0 | I6: =IFERROR(H6/((1+Parametry!$C$8)^$B5),"-") -> 0 | J6: =IFERROR(E6/((1+Parametry!$C$8)^$B5),"-") -> 0
B7: =IF(B6<Parametry!$C$7,B6+1,"-") -> 2 | C7: =IF($B7="-","-",-INDEX('Vstupy ex ante'!$F$7:$AI$7,1,$B7)) -> 0 | D7: =IF($B7="-","-",INDEX('Vstupy ex ante'!$F$26:$AI$26,1,$B7)) -> 0 | E7: =IF($B7="-","-",INDEX('Vstupy ex ante'!$F$10:$AI$10,1,$B7)) -> 0 | F7: =IF($B7="-","-",-(INDEX('Vstupy ex ante'!$F$13:$AI$13,1,$B7))) -> 0 | G7: =IF($B7="-","-",INDEX('Vstupy ex ante'!$F$21:$AI$21,1,$B7)) -> 0 | H7: =IF($B7="-","-",C7+D7+F7+G7) -> 0 | I7: =IFERROR(H7/((1+Parametry!$C$8)^$B6),"-") -> 0 | J7: =IFERROR(E7/((1+Parametry!$C$8)^$B6),"-") -> 0
B8: =IF(B7<Parametry!$C$7,B7+1,"-") -> 3 | C8: =IF($B8="-","-",-INDEX('Vstupy ex ante'!$F$7:$AI$7,1,$B8)) -> 0 | D8: =IF($B8="-","-",INDEX('Vstupy ex ante'!$F$26:$AI$26,1,$B8)) -> 0 | E8: =IF($B8="-","-",INDEX('Vstupy ex ante'!$F$10:$AI$10,1,$B8)) -> 0 | F8: =IF($B8="-","-",-(INDEX('Vstupy ex ante'!$F$13:$AI$13,1,$B8))) -> 0 | G8: =IF($B8="-","-",INDEX('Vstupy ex ante'!$F$21:$AI$21,1,$B8)) -> 0 | H8: =IF($B8="-","-",C8+D8+F8+G8) -> 0 | I8: =IFERROR(H8/((1+Parametry!$C$8)^$B7),"-") -> 0 | J8: =IFERROR(E8/((1+Parametry!$C$8)^$B7),"-") -> 0
B9: =IF(B8<Parametry!$C$7,B8+1,"-") -> 4 | C9: =IF($B9="-","-",-INDEX('Vstupy ex ante'!$F$7:$AI$7,1,$B9)) -> 0 | D9: =IF($B9="-","-",INDEX('Vstupy ex ante'!$F$26:$AI$26,1,$B9)) -> 0 | E9: =IF($B9="-","-",INDEX('Vstupy ex ante'!$F$10:$AI$10,1,$B9)) -> 0 | F9: =IF($B9="-","-",-(INDEX('Vstupy ex ante'!$F$13:$AI$13,1,$B9))) -> 0 | G9: =IF($B9="-","-",INDEX('Vstupy ex ante'!$F$21:$AI$21,1,$B9)) -> 0 | H9: =IF($B9="-","-",C9+D9+F9+G9) -> 0 | I9: =IFERROR(H9/((1+Parametry!$C$8)^$B8),"-") -> 0 | J9: =IFERROR(E9/((1+Parametry!$C$8)^$B8),"-") -> 0
B10: =IF(B9<Parametry!$C$7,B9+1,"-") -> 5 | C10: =IF($B10="-","-",-INDEX('Vstupy ex ante'!$F$7:$AI$7,1,$B10)) -> 0 | D10: =IF($B10="-","-",INDEX('Vstupy ex ante'!$F$26:$AI$26,1,$B10)) -> 0 | E10: =IF($B10="-","-",INDEX('Vstupy ex ante'!$F$10:$AI$10,1,$B10)) -> 0 | F10: =IF($B10="-","-",-(INDEX('Vstupy ex ante'!$F$13:$AI$13,1,$B10))) -> 0 | G10: =IF($B10="-","-",INDEX('Vstupy ex ante'!$F$21:$AI$21,1,$B10)) -> 0 | H10: =IF($B10="-","-",C10+D10+F10+G10) -> 0 | I10: =IFERROR(H10/((1+Parametry!$C$8)^$B9),"-") -> 0 | J10: =IFERROR(E10/((1+Parametry!$C$8)^$B9),"-") -> 0
B11: =IF(B10<Parametry!$C$7,B10+1,"-") -> 6 | C11: =IF($B11="-","-",-INDEX('Vstupy ex ante'!$F$7:$AI$7,1,$B11)) -> 0 | D11: =IF($B11="-","-",INDEX('Vstupy ex ante'!$F$26:$AI$26,1,$B11)) -> 0 | E11: =IF($B11="-","-",INDEX('Vstupy ex ante'!$F$10:$AI$10,1,$B11)) -> 0 | F11: =IF($B11="-","-",-(INDEX('Vstupy ex ante'!$F$13:$AI$13,1,$B11))) -> 0 | G11: =IF($B11="-","-",INDEX('Vstupy ex ante'!$F$21:$AI$21,1,$B11)) -> 0 | H11: =IF($B11="-","-",C11+D11+F11+G11) -> 0 | I11: =IFERROR(H11/((1+Parametry!$C$8)^$B10),"-") -> 0 | J11: =IFERROR(E11/((1+Parametry!$C$8)^$B10),"-") -> 0
B12: =IF(B11<Parametry!$C$7,B11+1,"-") -> 7 | C12: =IF($B12="-","-",-INDEX('Vstupy ex ante'!$F$7:$AI$7,1,$B12)) -> 0 | D12: =IF($B12="-","-",INDEX('Vstupy ex ante'!$F$26:$AI$26,1,$B12)) -> 0 | E12: =IF($B12="-","-",INDEX('Vstupy ex ante'!$F$10:$AI$10,1,$B12)) -> 0 | F12: =IF($B12="-","-",-(INDEX('Vstupy ex ante'!$F$13:$AI$13,1,$B12))) -> 0 | G12: =IF($B12="-","-",INDEX('Vstupy ex ante'!$F$21:$AI$21,1,$B12)) -> 0 | H12: =IF($B12="-","-",C12+D12+F12+G12) -> 0 | I12: =IFERROR(H12/((1+Parametry!$C$8)^$B11),"-") -> 0 | J12: =IFERROR(E12/((1+Parametry!$C$8)^$B11),"-") -> 0
B13: =IF(B12<Parametry!$C$7,B12+1,"-") -> 8 | C13: =IF($B13="-","-",-INDEX('Vstupy ex ante'!$F$7:$AI$7,1,$B13)) -> 0 | D13: =IF($B13="-","-",INDEX('Vstupy ex ante'!$F$26:$AI$26,1,$B13)) -> 0 | E13: =IF($B13="-","-",INDEX('Vstupy ex ante'!$F$10:$AI$10,1,$B13)) -> 0 | F13: =IF($B13="-","-",-(INDEX('Vstupy ex ante'!$F$13:$AI$13,1,$B13))) -> 0 | G13: =IF($B13="-","-",INDEX('Vstupy ex ante'!$F$21:$AI$21,1,$B13)) -> 0 | H13: =IF($B13="-","-",C13+D13+F13+G13) -> 0 | I13: =IFERROR(H13/((1+Parametry!$C$8)^$B12),"-") -> 0 | J13: =IFERROR(E13/((1+Parametry!$C$8)^$B12),"-") -> 0
B14: =IF(B13<Parametry!$C$7,B13+1,"-") -> 9 | C14: =IF($B14="-","-",-INDEX('Vstupy ex ante'!$F$7:$AI$7,1,$B14)) -> 0 | D14: =IF($B14="-","-",INDEX('Vstupy ex ante'!$F$26:$AI$26,1,$B14)) -> 0 | E14: =IF($B14="-","-",INDEX('Vstupy ex ante'!$F$10:$AI$10,1,$B14)) -> 0 | F14: =IF($B14="-","-",-(INDEX('Vstupy ex ante'!$F$13:$AI$13,1,$B14))) -> 0 | G14: =IF($B14="-","-",INDEX('Vstupy ex ante'!$F$21:$AI$21,1,$B14)) -> 0 | H14: =IF($B14="-","-",C14+D14+F14+G14) -> 0 | I14: =IFERROR(H14/((1+Parametry!$C$8)^$B13),"-") -> 0 | J14: =IFERROR(E14/((1+Parametry!$C$8)^$B13),"-") -> 0
B15: =IF(B14<Parametry!$C$7,B14+1,"-") -> 10 | C15: =IF($B15="-","-",-INDEX('Vstupy ex ante'!$F$7:$AI$7,1,$B15)) -> 0 | D15: =IF($B15="-","-",INDEX('Vstupy ex ante'!$F$26:$AI$26,1,$B15)) -> 0 | E15: =IF($B15="-","-",INDEX('Vstupy ex ante'!$F$10:$AI$10,1,$B15)) -> 0 | F15: =IF($B15="-","-",-(INDEX('Vstupy ex ante'!$F$13:$AI$13,1,$B15))) -> 0 | G15: =IF($B15="-","-",INDEX('Vstupy ex ante'!$F$21:$AI$21,1,$B15)) -> 0 | H15: =IF($B15="-","-",C15+D15+F15+G15) -> 0 | I15: =IFERROR(H15/((1+Parametry!$C$8)^$B14),"-") -> 0 | J15: =IFERROR(E15/((1+Parametry!$C$8)^$B14),"-") -> 0
B16: =IF(B15<Parametry!$C$7,B15+1,"-") -> 11 | C16: =IF($B16="-","-",-INDEX('Vstupy ex ante'!$F$7:$AI$7,1,$B16)) -> 0 | D16: =IF($B16="-","-",INDEX('Vstupy ex ante'!$F$26:$AI$26,1,$B16)) -> 0 | E16: =IF($B16="-","-",INDEX('Vstupy ex ante'!$F$10:$AI$10,1,$B16)) -> 0 | F16: =IF($B16="-","-",-(INDEX('Vstupy ex ante'!$F$13:$AI$13,1,$B16))) -> 0 | G16: =IF($B16="-","-",INDEX('Vstupy ex ante'!$F$21:$AI$21,1,$B16)) -> 0 | H16: =IF($B16="-","-",C16+D16+F16+G16) -> 0 | I16: =IFERROR(H16/((1+Parametry!$C$8)^$B15),"-") -> 0 | J16: =IFERROR(E16/((1+Parametry!$C$8)^$B15),"-") -> 0
B17: =IF(B16<Parametry!$C$7,B16+1,"-") -> 12 | C17: =IF($B17="-","-",-INDEX('Vstupy ex ante'!$F$7:$AI$7,1,$B17)) -> 0 | D17: =IF($B17="-","-",INDEX('Vstupy ex ante'!$F$26:$AI$26,1,$B17)) -> 0 | E17: =IF($B17="-","-",INDEX('Vstupy ex ante'!$F$10:$AI$10,1,$B17)) -> 0 | F17: =IF($B17="-","-",-(INDEX('Vstupy ex ante'!$F$13:$AI$13,1,$B17))) -> 0 | G17: =IF($B17="-","-",INDEX('Vstupy ex ante'!$F$21:$AI$21,1,$B17)) -> 0 | H17: =IF($B17="-","-",C17+D17+F17+G17) -> 0 | I17: =IFERROR(H17/((1+Parametry!$C$8)^$B16),"-") -> 0 | J17: =IFERROR(E17/((1+Parametry!$C$8)^$B16),"-") -> 0
B18: =IF(B17<Parametry!$C$7,B17+1,"-") -> 13 | C18: =IF($B18="-","-",-INDEX('Vstupy ex ante'!$F$7:$AI$7,1,$B18)) -> 0 | D18: =IF($B18="-","-",INDEX('Vstupy ex ante'!$F$26:$AI$26,1,$B18)) -> 0 | E18: =IF($B18="-","-",INDEX('Vstupy ex ante'!$F$10:$AI$10,1,$B18)) -> 0 | F18: =IF($B18="-","-",-(INDEX('Vstupy ex ante'!$F$13:$AI$13,1,$B18))) -> 0 | G18: =IF($B18="-","-",INDEX('Vstupy ex ante'!$F$21:$AI$21,1,$B18)) -> 0 | H18: =IF($B18="-","-",C18+D18+F18+G18) -> 0 | I18: =IFERROR(H18/((1+Parametry!$C$8)^$B17),"-") -> 0 | J18: =IFERROR(E18/((1+Parametry!$C$8)^$B17),"-") -> 0
... B35: =IF(B34<Parametry!$C$7,B34+1,"-") -> - | C35: =IF($B35="-","-",-INDEX('Vstupy ex ante'!$F$7:$AI$7,1,$B35)) -> - | D35: =IF($B35="-","-",INDEX('Vstupy ex ante'!$F$26:$AI$26,1,$B35)) -> - | E35: =IF($B35="-","-",INDEX('Vstupy ex ante'!$F$10:$AI$10,1,$B35)) -> - | F35: =IF($B35="-","-",-(INDEX('Vstupy ex ante'!$F$13:$AI$13,1,$B35))) -> - | G35: =IF($B35="-","-",INDEX('Vstupy ex ante'!$F$21:$AI$21,1,$B35)) -> - | H35: =IF($B35="-","-",C35+D35+F35+G35) -> - | I35: =IFERROR(H35/((1+Parametry!$C$8)^$B34),"-") -> - | J35: =IFERROR(E35/((1+Parametry!$C$8)^$B34),"-") -> -
B36: Celkem | C36: =SUM(C6:C35) -> 0 | D36: =SUM(D6:D35) -> 0 | E36: =SUM(E6:E35) -> 0 | F36: =SUM(F6:F35) -> 0 | G36: =SUM(G6:G35) -> 0 | H36: =SUM(H6:H35) -> 0 | I36: =SUM(I6:I35) -> 0 | J36: =SUM(J6:J35) -> 0
C37: =IF('Vstupy ex ante'!D7=-'Diskontované hodnoty ex ante'!C36,"ok","error") -> ok | D37: =IF('Vstupy ex ante'!D26='Diskontované hodnoty ex ante'!D36,"ok","error") -> ok | E37: =IF('Vstupy ex ante'!D10='Diskontované hodnoty ex ante'!E36,"ok","error") -> ok | F37: =IF('Vstupy ex ante'!D13=-'Diskontované hodnoty ex ante'!F36,"ok","error") -> ok | G37: =IF('Vstupy ex ante'!D21='Diskontované hodnoty ex ante'!G36,"ok","error") -> ok

Sheet Kontrola ex ante
C2: Kontrola nadměrné kompenzace ex ante | I2: ="Kontrola za období " & (Parametry!$C$6 - 2) & " až " & Parametry!$C$6 -> Kontrola za období 2023 až 2025
C3: =Parametry!C4 -> Projekt
C4: =HYPERLINK("#'Pokyny k použití'!C22","Víceletá kontrola během celého období pověření") -> Víceletá kontrola během celého období pověření
C5: (čisté současné hodnoty)
C6: Čisté náklady (-) nebo čisté výnosy (+) | G6: ='Diskontované hodnoty ex ante'!I36 -> 0
C7: Maximální kompenzace veřejných služeb | G7: =-G6 -> 0
C8: Skutečná kompenzace veřejných služeb | G8: ='Diskontované hodnoty ex ante'!J36 -> 0
C10: Kontrolní výpočet: | E10: =VLOOKUP(Parametry!$C$6-Parametry!$C$5+1,'Kontrola ex ante'!$C$19:$F$48,4) -> 0 | F10: < | G10: =-VLOOKUP(Parametry!$C$6-Parametry!$C$5+1,'Kontrola ex ante'!$C$19:$F$48,3) -> 0 | H10: =IF($G$7 >= 0, ROUND(G10-E10,2), -$G$8) -> 0 | I10: =IF(E10<G10,"Není nadměrná kompenzace v kontrolovaném období","Nadměrná kompenzace v kontrolovaném období") -> Nadměrná kompenzace v kontrolovaném období
E11: =G8 -> 0 | F11: < | G11: =G7 -> 0 | H11: =IF($G$7 >= 0, ROUND(G11-E11,2), -$G$8) -> 0 | I11: =IF(E11<G11,"Nehrozí nadměrná kompenzace na konci pověření","Hrozí nadměrná kompenzace na konci pověření") -> Hrozí nadměrná kompenzace na konci pověření
C13: Referenční období (roky) | G13: =Parametry!C7 -> 20
C14: Diskontní sazba | G14: =Parametry!C8 -> 0.0543
C16: =HYPERLINK("#'Pokyny k použití'!C22","Pravidelné kontroly během celého období pověření") -> Pravidelné kontroly během celého období pověření
C17: Kontrola kompenzace
C18: Rok | D18: Kontrolní rok | E18: Čisté současné náklady (kumulativní) | F18: Kompenzace (průměrná, kumulativní) | G18: Překompenzace | H18: =HYPERLINK("#'Pokyny k použití'!C61","Přenos") -> Přenos | I18: =HYPERLINK("#'Pokyny k použití'!C62","Výše vratky určené MMR") -> Výše vratky určené MMR
C19: 1 | D19: =IF('Diskontované hodnoty ex ante'!B6>Parametry!$C$7,0,IF(OR(MOD('Diskontované hodnoty ex ante'!B6,Parametry!$C$9)=0,'Diskontované hodnoty ex ante'!B6=Parametry!$C$7),1,0)) -> 0 | E19: =IF($D19=1,SUM('Diskontované hodnoty ex ante'!I$6:$I6),0) -> 0 | F19: =IF($D19=1,(SUM('Diskontované hodnoty ex ante'!J$6:$J6)*(COUNT('Diskontované hodnoty ex ante'!J$6:$J6)/Parametry!$C$7)),0) -> 0 | G19: {=IF($D19=1,_xlfn.IFS(F19<=-E19,,F19>-E19,IF(E19<=0, E19+F19, F19)),0)} -> 0 | H19: {=_xlfn.IFS($D19=0,0,G19=0,0,AND(G19>0,G19<(F19/10)),G19,AND(G19>0,G19>(F19/10)),0)} -> 0 | I19: {=IFERROR(IF(D19=0,0,(_xlfn.IFS(H19>0,H19,G19>0,G19-SUM($I18:I$19)))),0)} -> 0
C20: =C19+1 -> 2 | D20: =IF('Diskontované hodnoty ex ante'!B7>Parametry!$C$7,0,IF(OR(MOD('Diskontované hodnoty ex ante'!B7,Parametry!$C$9)=0,'Diskontované hodnoty ex ante'!B7=Parametry!$C$7),1,0)) -> 0 | E20: =IF($D20=1,SUM('Diskontované hodnoty ex ante'!I$6:$I7),0) -> 0 | F20: =IF($D20=1,(SUM('Diskontované hodnoty ex ante'!J$6:$J7)*(COUNT('Diskontované hodnoty ex ante'!J$6:$J7)/Parametry!$C$7)),0) -> 0 | G20: {=IF($D20=1,_xlfn.IFS(F20<=-E20,,F20>-E20,IF(E20<=0, E20+F20, F20)),0)} -> 0 | H20: {=_xlfn.IFS($D20=0,0,G20=0,0,AND(G20>0,G20<(F20/10)),G20,AND(G20>0,G20>(F20/10)),0)} -> 0 | I20: {=IFERROR(IF(D20=0,0,(_xlfn.IFS(H20>0,H20,G20>0,G20-SUM($I19:I$19)))),0)} -> 0
C21: =C20+1 -> 3 | D21: =IF('Diskontované hodnoty ex ante'!B8>Parametry!$C$7,0,IF(OR(MOD('Diskontované hodnoty ex ante'!B8,Parametry!$C$9)=0,'Diskontované hodnoty ex ante'!B8=Parametry!$C$7),1,0)) -> 1 | E21: =IF($D21=1,SUM('Diskontované hodnoty ex ante'!I$6:$I8),0) -> 0 | F21: =IF($D21=1,(SUM('Diskontované hodnoty ex ante'!J$6:$J8)*(COUNT('Diskontované hodnoty ex ante'!J$6:$J8)/Parametry!$C$7)),0) -> 0 | G21: {=IF($D21=1,_xlfn.IFS(F21<=-E21,,F21>-E21,IF(E21<=0, E21+F21, F21)),0)} -> 0 | H21: {=_xlfn.IFS($D21=0,0,G21=0,0,AND(G21>0,G21<(F21/10)),G21,AND(G21>0,G21>(F21/10)),0)} -> 0 | I21: {=IFERROR(IF(D21=0,0,(_xlfn.IFS(H21>0,H21,G21>0,G21-SUM($I$19:I20)))),0)} -> 0
C22: =C21+1 -> 4 | D22: =IF('Diskontované hodnoty ex ante'!B9>Parametry!$C$7,0,IF(OR(MOD('Diskontované hodnoty ex ante'!B9,Parametry!$C$9)=0,'Diskontované hodnoty ex ante'!B9=Parametry!$C$7),1,0)) -> 0 | E22: =IF($D22=1,SUM('Diskontované hodnoty ex ante'!I$6:$I9),0) -> 0 | F22: =IF($D22=1,(SUM('Diskontované hodnoty ex ante'!J$6:$J9)*(COUNT('Diskontované hodnoty ex ante'!J$6:$J9)/Parametry!$C$7)),0) -> 0 | G22: {=IF($D22=1,_xlfn.IFS(F22<=-E22,,F22>-E22,IF(E22<=0, E22+F22, F22)),0)} -> 0 | H22: {=_xlfn.IFS($D22=0,0,G22=0,0,AND(G22>0,G22<(F22/10)),G22,AND(G22>0,G22>(F22/10)),0)} -> 0 | I22: {=IFERROR(IF(D22=0,0,(_xlfn.IFS(H22>0,H22,G22>0,G22-SUM($I$19:I21)))),0)} -> 0
C23: =C22+1 -> 5 | D23: =IF('Diskontované hodnoty ex ante'!B10>Parametry!$C$7,0,IF(OR(MOD('Diskontované hodnoty ex ante'!B10,Parametry!$C$9)=0,'Diskontované hodnoty ex ante'!B10=Parametry!$C$7),1,0)) -> 0 | E23: =IF($D23=1,SUM('Diskontované hodnoty ex ante'!I$6:$I10),0) -> 0 | F23: =IF($D23=1,(SUM('Diskontované hodnoty ex ante'!J$6:$J10)*(COUNT('Diskontované hodnoty ex ante'!J$6:$J10)/Parametry!$C$7)),0) -> 0 | G23: {=IF($D23=1,_xlfn.IFS(F23<=-E23,,F23>-E23,IF(E23<=0, E23+F23, F23)),0)} -> 0 | H23: {=_xlfn.IFS($D23=0,0,G23=0,0,AND(G23>0,G23<(F23/10)),G23,AND(G23>0,G23>(F23/10)),0)} -> 0 | I23: {=IFERROR(IF(D23=0,0,(_xlfn.IFS(H23>0,H23,G23>0,G23-SUM($I$19:I22)))),0)} -> 0
C24: =C23+1 -> 6 | D24: =IF('Diskontované hodnoty ex ante'!B11>Parametry!$C$7,0,IF(OR(MOD('Diskontované hodnoty ex ante'!B11,Parametry!$C$9)=0,'Diskontované hodnoty ex ante'!B11=Parametry!$C$7),1,0)) -> 1 | E24: =IF($D24=1,SUM('Diskontované hodnoty ex ante'!I$6:$I11),0) -> 0 | F24: =IF($D24=1,(SUM('Diskontované hodnoty ex ante'!J$6:$J11)*(COUNT('Diskontované hodnoty ex ante'!J$6:$J11)/Parametry!$C$7)),0) -> 0 | G24: {=IF($D24=1,_xlfn.IFS(F24<=-E24,,F24>-E24,IF(E24<=0, E24+F24, F24)),0)} -> 0 | H24: {=_xlfn.IFS($D24=0,0,G24=0,0,AND(G24>0,G24<(F24/10)),G24,AND(G24>0,G24>(F24/10)),0)} -> 0 | I24: {=IFERROR(IF(D24=0,0,(_xlfn.IFS(H24>0,H24,G24>0,G24-SUM($I$19:I23)))),0)} -> 0
C25: =C24+1 -> 7 | D25: =IF('Diskontované hodnoty ex ante'!B12>Parametry!$C$7,0,IF(OR(MOD('Diskontované hodnoty ex ante'!B12,Parametry!$C$9)=0,'Diskontované hodnoty ex ante'!B12=Parametry!$C$7),1,0)) -> 0 | E25: =IF($D25=1,SUM('Diskontované hodnoty ex ante'!I$6:$I12),0) -> 0 | F25: =IF($D25=1,(SUM('Diskontované hodnoty ex ante'!J$6:$J12)*(COUNT('Diskontované hodnoty ex ante'!J$6:$J12)/Parametry!$C$7)),0) -> 0 | G25: {=IF($D25=1,_xlfn.IFS(F25<=-E25,,F25>-E25,IF(E25<=0, E25+F25, F25)),0)} -> 0 | H25: {=_xlfn.IFS($D25=0,0,G25=0,0,AND(G25>0,G25<(F25/10)),G25,AND(G25>0,G25>(F25/10)),0)} -> 0 | I25: {=IFERROR(IF(D25=0,0,(_xlfn.IFS(H25>0,H25,G25>0,G25-SUM($I$19:I24)))),0)} -> 0
C26: =C25+1 -> 8 | D26: =IF('Diskontované hodnoty ex ante'!B13>Parametry!$C$7,0,IF(OR(MOD('Diskontované hodnoty ex ante'!B13,Parametry!$C$9)=0,'Diskontované hodnoty ex ante'!B13=Parametry!$C$7),1,0)) -> 0 | E26: =IF($D26=1,SUM('Diskontované hodnoty ex ante'!I$6:$I13),0) -> 0 | F26: =IF($D26=1,(SUM('Diskontované hodnoty ex ante'!J$6:$J13)*(COUNT('Diskontované hodnoty ex ante'!J$6:$J13)/Parametry!$C$7)),0) -> 0 | G26: {=IF($D26=1,_xlfn.IFS(F26<=-E26,,F26>-E26,IF(E26<=0, E26+F26, F26)),0)} -> 0 | H26: {=_xlfn.IFS($D26=0,0,G26=0,0,AND(G26>0,G26<(F26/10)),G26,AND(G26>0,G26>(F26/10)),0)} -> 0 | I26: {=IFERROR(IF(D26=0,0,(_xlfn.IFS(H26>0,H26,G26>0,G26-SUM($I$19:I25)))),0)} -> 0
C27: =C26+1 -> 9 | D27: =IF('Diskontované hodnoty ex ante'!B14>Parametry!$C$7,0,IF(OR(MOD('Diskontované hodnoty ex ante'!B14,Parametry!$C$9)=0,'Diskontované hodnoty ex ante'!B14=Parametry!$C$7),1,0)) -> 1 | E27: =IF($D27=1,SUM('Diskontované hodnoty ex ante'!I$6:$I14),0) -> 0 | F27: =IF($D27=1,(SUM('Diskontované hodnoty ex ante'!J$6:$J14)*(COUNT('Diskontované hodnoty ex ante'!J$6:$J14)/Parametry!$C$7)),0) -> 0 | G27: {=IF($D27=1,_xlfn.IFS(F27<=-E27,,F27>-E27,IF(E27<=0, E27+F27, F27)),0)} -> 0 | H27: {=_xlfn.IFS($D27=0,0,G27=0,0,AND(G27>0,G27<(F27/10)),G27,AND(G27>0,G27>(F27/10)),0)} -> 0 | I27: {=IFERROR(IF(D27=0,0,(_xlfn.IFS(H27>0,H27,G27>0,G27-SUM($I$19:I26)))),0)} -> 0
C28: =C27+1 -> 10 | D28: =IF('Diskontované hodnoty ex ante'!B15>Parametry!$C$7,0,IF(OR(MOD('Diskontované hodnoty ex ante'!B15,Parametry!$C$9)=0,'Diskontované hodnoty ex ante'!B15=Parametry!$C$7),1,0)) -> 0 | E28: =IF($D28=1,SUM('Diskontované hodnoty ex ante'!I$6:$I15),0) -> 0 | F28: =IF($D28=1,(SUM('Diskontované hodnoty ex ante'!J$6:$J15)*(COUNT('Diskontované hodnoty ex ante'!J$6:$J15)/Parametry!$C$7)),0) -> 0 | G28: {=IF($D28=1,_xlfn.IFS(F28<=-E28,,F28>-E28,IF(E28<=0, E28+F28, F28)),0)} -> 0 | H28: {=_xlfn.IFS($D28=0,0,G28=0,0,AND(G28>0,G28<(F28/10)),G28,AND(G28>0,G28>(F28/10)),0)} -> 0 | I28: {=IFERROR(IF(D28=0,0,(_xlfn.IFS(H28>0,H28,G28>0,G28-SUM($I$19:I27)))),0)} -> 0
C29: =C28+1 -> 11 | D29: =IF('Diskontované hodnoty ex ante'!B16>Parametry!$C$7,0,IF(OR(MOD('Diskontované hodnoty ex ante'!B16,Parametry!$C$9)=0,'Diskontované hodnoty ex ante'!B16=Parametry!$C$7),1,0)) -> 0 | E29: =IF($D29=1,SUM('Diskontované hodnoty ex ante'!I$6:$I16),0) -> 0 | F29: =IF($D29=1,(SUM('Diskontované hodnoty ex ante'!J$6:$J16)*(COUNT('Diskontované hodnoty ex ante'!J$6:$J16)/Parametry!$C$7)),0) -> 0 | G29: {=IF($D29=1,_xlfn.IFS(F29<=-E29,,F29>-E29,IF(E29<=0, E29+F29, F29)),0)} -> 0 | H29: {=_xlfn.IFS($D29=0,0,G29=0,0,AND(G29>0,G29<(F29/10)),G29,AND(G29>0,G29>(F29/10)),0)} -> 0 | I29: {=IFERROR(IF(D29=0,0,(_xlfn.IFS(H29>0,H29,G29>0,G29-SUM($I$19:I28)))),0)} -> 0
C30: =C29+1 -> 12 | D30: =IF('Diskontované hodnoty ex ante'!B17>Parametry!$C$7,0,IF(OR(MOD('Diskontované hodnoty ex ante'!B17,Parametry!$C$9)=0,'Diskontované hodnoty ex ante'!B17=Parametry!$C$7),1,0)) -> 1 | E30: =IF($D30=1,SUM('Diskontované hodnoty ex ante'!I$6:$I17),0) -> 0 | F30: =IF($D30=1,(SUM('Diskontované hodnoty ex ante'!J$6:$J17)*(COUNT('Diskontované hodnoty ex ante'!J$6:$J17)/Parametry!$C$7)),0) -> 0 | G30: {=IF($D30=1,_xlfn.IFS(F30<=-E30,,F30>-E30,IF(E30<=0, E30+F30, F30)),0)} -> 0 | H30: {=_xlfn.IFS($D30=0,0,G30=0,0,AND(G30>0,G30<(F30/10)),G30,AND(G30>0,G30>(F30/10)),0)} -> 0 | I30: {=IFERROR(IF(D30=0,0,(_xlfn.IFS(H30>0,H30,G30>0,G30-SUM($I$19:I29)))),0)} -> 0
C31: =C30+1 -> 13 | D31: =IF('Diskontované hodnoty ex ante'!B18>Parametry!$C$7,0,IF(OR(MOD('Diskontované hodnoty ex ante'!B18,Parametry!$C$9)=0,'Diskontované hodnoty ex ante'!B18=Parametry!$C$7),1,0)) -> 0 | E31: =IF($D31=1,SUM('Diskontované hodnoty ex ante'!I$6:$I18),0) -> 0 | F31: =IF($D31=1,(SUM('Diskontované hodnoty ex ante'!J$6:$J18)*(COUNT('Diskontované hodnoty ex ante'!J$6:$J18)/Parametry!$C$7)),0) -> 0 | G31: {=IF($D31=1,_xlfn.IFS(F31<=-E31,,F31>-E31,IF(E31<=0, E31+F31, F31)),0)} -> 0 | H31: {=_xlfn.IFS($D31=0,0,G31=0,0,AND(G31>0,G31<(F31/10)),G31,AND(G31>0,G31>(F31/10)),0)} -> 0 | I31: {=IFERROR(IF(D31=0,0,(_xlfn.IFS(H31>0,H31,G31>0,G31-SUM($I$19:I30)))),0)} -> 0
C32: =C31+1 -> 14 | D32: =IF('Diskontované hodnoty ex ante'!B19>Parametry!$C$7,0,IF(OR(MOD('Diskontované hodnoty ex ante'!B19,Parametry!$C$9)=0,'Diskontované hodnoty ex ante'!B19=Parametry!$C$7),1,0)) -> 0 | E32: =IF($D32=1,SUM('Diskontované hodnoty ex ante'!I$6:$I19),0) -> 0 | F32: =IF($D32=1,(SUM('Diskontované hodnoty ex ante'!J$6:$J19)*(COUNT('Diskontované hodnoty ex ante'!J$6:$J19)/Parametry!$C$7)),0) -> 0 | G32: {=IF($D32=1,_xlfn.IFS(F32<=-E32,,F32>-E32,IF(E32<=0, E32+F32, F32)),0)} -> 0 | H32: {=_xlfn.IFS($D32=0,0,G32=0,0,AND(G32>0,G32<(F32/10)),G32,AND(G32>0,G32>(F32/10)),0)} -> 0 | I32: {=IFERROR(IF(D32=0,0,(_xlfn.IFS(H32>0,H32,G32>0,G32-SUM($I$19:I31)))),0)} -> 0
... C48: =C47+1 -> 30 | D48: =IF('Diskontované hodnoty ex ante'!B35>Parametry!$C$7,0,IF(OR(MOD('Diskontované hodnoty ex ante'!B35,Parametry!$C$9)=0,'Diskontované hodnoty ex ante'!B35=Parametry!$C$7),1,0)) -> 0 | E48: =IF($D48=1,SUM('Diskontované hodnoty ex ante'!I$6:$I35),0) -> 0 | F48: =IF($D48=1,(SUM('Diskontované hodnoty ex ante'!J$6:$J35)*(COUNT('Diskontované hodnoty ex ante'!J$6:$J35)/Parametry!$C$7)),0) -> 0 | G48: {=IF($D48=1,_xlfn.IFS(F48<=-E48,,F48>-E48,IF(E48<=0, E48+F48, F48)),0)} -> 0 | H48: {=_xlfn.IFS($D48=0,0,G48=0,0,AND(G48>0,G48<(F48/10)),G48,AND(G48>0,G48>(F48/10)),0)} -> 0 | I48: {=IFERROR(IF(D48=0,0,(_xlfn.IFS(H48>0,H48,G48>0,G48-SUM($I$19:I47)))),0)} -> 0
E49: {=INDEX(E19:E48,Parametry!$C$7)} -> 0 | F49: {=INDEX(F19:F48,Parametry!$C$7)} -> 0 | G49: {=INDEX(G19:G48,Parametry!$C$7)} -> 0 | I49: =SUM(I19:I48) -> 0
E50: =IF(ROUND('Diskontované hodnoty ex ante'!I36,2)=ROUND(E49,2),"ok","error") -> ok | F50: =IF(F49='Diskontované hodnoty ex ante'!J36,"ok","error") -> ok | G50: =IF(OR(ROUND(-G49,0)=ROUND(H11,0),G49<H11),"ok","error") -> ok | I50: =IF(G49=I49,"ok","error") -> ok
C53: =IF(E11<G11,"","Podle současných nákladů a výnosů hrozí na konci doby pověření nadměrná kompenzace a vyměření vratky. Pro zamezení nadmědné kompenzace je možné v následujících letech například zvýšit kvalitu poskytované služby (opravy a vylepšení) nebo snížit nájemné.") -> Podle současných nákladů a výnosů hrozí na konci doby pověření nadměrná kompenzace a vyměření vratky. Pro zamezení nadmědné kompenzace je možné v následujících letech například zvýšit kvalitu poskytované služby (opravy a vylepšení) nebo snížit nájemné.

Sheet Vstupy ex post
C2: Vstupní data pro ex post kontrolu nadměrné kompenzace
C3: (částky v Kč)
D4: Rok pověření | F4: 1 | G4: =F4+1 -> 2 | H4: =G4+1 -> 3 | I4: =H4+1 -> 4 | J4: =I4+1 -> 5 | K4: =J4+1 -> 6 | L4: =K4+1 -> 7 | M4: =L4+1 -> 8 | N4: =M4+1 -> 9 | ... AI4: =AH4+1 -> 30 | AJ4: +++
F5: =IF(F4<=Parametry!$C$7,1,0) -> 1 | G5: =IF(G4<=Parametry!$C$7,1,0) -> 1 | H5: =IF(H4<=Parametry!$C$7,1,0) -> 1 | I5: =IF(I4<=Parametry!$C$7,1,0) -> 1 | J5: =IF(J4<=Parametry!$C$7,1,0) -> 1 | K5: =IF(K4<=Parametry!$C$7,1,0) -> 1 | L5: =IF(L4<=Parametry!$C$7,1,0) -> 1 | M5: =IF(M4<=Parametry!$C$7,1,0) -> 1 | ... XFD5: =IF(XFD4<=Parametry!$C$7,1,0) -> 1
B6: Rozpočet investiční fáze projektu | AJ6: +++
B7: 1 | C7: Celkové náklady v investiční fázi projektu | D7: =SUM(F7:AI7) -> 0 | F7: =F8+F9 -> 0 | G7: =G8+G9 -> 0 | H7: =H8+H9 -> 0 | I7: =I8+I9 -> 0 | J7: =J8+J9 -> 0 | K7: =K8+K9 -> 0 | L7: =L8+L9 -> 0 | M7: =M8+M9 -> 0 | ... XFD7: =XFD8+XFD9 -> 0
B8: 1.1 | C8: Celkové investiční náklady | D8: =SUM(F8:AI8) -> 0
B9: 1.3 | C9: Celkové neinvestiční náklady | D9: =SUM(F9:AI9) -> 0
B10: 2 | C10: Celková dotace | D10: =SUM(F10:AI10) -> 0
AJ11: +++
B12: Finanční plán provozní fáze projektu | AJ12: +++
B13: 3 | C13: Celkové náklady v provozní fáze projektu | D13: =SUM(F13:AI13) -> 0 | F13: =SUM(F14:F20) -> 0 | G13: =SUM(G14:G20) -> 0 | H13: =SUM(H14:H20) -> 0 | I13: =SUM(I14:I20) -> 0 | J13: =SUM(J14:J20) -> 0 | K13: =SUM(K14:K20) -> 0 | L13: =SUM(L14:L20) -> 0 | M13: =SUM(M14:M20) -> 0 | ... XFD13: =SUM(XFD14:XFD20) -> 0
B14: 3.1 | C14: =HYPERLINK("#'Pokyny k použití'!C40","Plánovaná údržba") -> Plánovaná údržba | D14: =SUM(F14:AI14) -> 0 | AJ14: +++
B15: 3.2 | C15: =HYPERLINK("#'Pokyny k použití'!C41","Opravy") -> Opravy | D15: =SUM(F15:AI15) -> 0 | AJ15: +++
B16: 3.3 | C16: =HYPERLINK("#'Pokyny k použití'!C42","Náklady na vylepšení") -> Náklady na vylepšení | D16: =SUM(F16:AI16) -> 0 | AJ16: +++
B17: 3.4 | C17: =HYPERLINK("#'Pokyny k použití'!C43","Mzdové výdaje na sociální pracovníky či správce nemovitosti") -> Mzdové výdaje na sociální pracovníky či správce nemovitosti | D17: =SUM(F17:AI17) -> 0
B18: 3.5 | C18: =HYPERLINK("#'Pokyny k použití'!C44","Nepřímé náklady") -> Nepřímé náklady | D18: =SUM(F18:AI18) -> 0 | F18: =Parametry!$C$10*(F14+F15+F16+F17) -> 0 | G18: =Parametry!$C$10*(G14+G15+G16+G17) -> 0 | H18: =Parametry!$C$10*(H14+H15+H16+H17) -> 0 | I18: =Parametry!$C$10*(I14+I15+I16+I17) -> 0 | J18: =Parametry!$C$10*(J14+J15+J16+J17) -> 0 | K18: =Parametry!$C$10*(K14+K15+K16+K17) -> 0 | L18: =Parametry!$C$10*(L14+L15+L16+L17) -> 0 | M18: =Parametry!$C$10*(M14+M15+M16+M17) -> 0 | ... XFD18: =Parametry!$C$10*(XFD14+XFD15+XFD16+XFD17) -> 0
B19: 3.6 | C19: =HYPERLINK("#'Pokyny k použití'!C45","Rezervy pro očekávatelnou povinnou modernizaci") -> Rezervy pro očekávatelnou povinnou modernizaci | D19: =SUM(F19:AI19) -> 0
B20: 3.7 | C20: =HYPERLINK("#'Pokyny k použití'!C46","Finanční náklady") -> Finanční náklady | D20: =SUM(F20:AI20) -> 0
B21: 4 | C21: Celkové příjmy v provozní fázi projektu | D21: =SUM(F21:AI21) -> 0 | F21: =SUM(F22:F24) -> 0 | G21: =SUM(G22:G24) -> 0 | H21: =SUM(H22:H24) -> 0 | I21: =SUM(I22:I24) -> 0 | J21: =SUM(J22:J24) -> 0 | K21: =SUM(K22:K24) -> 0 | L21: =SUM(L22:L24) -> 0 | M21: =SUM(M22:M24) -> 0 | ... XFD21: =SUM(XFD22:XFD24) -> 0
B22: 4.1 | C22: =HYPERLINK("#'Pokyny k použití'!C49","Nájemné") -> Nájemné | D22: =SUM(F22:AI22) -> 0 | AJ22: +++
B23: 4.2 | C23: =HYPERLINK("#'Pokyny k použití'!C50","Další granty nebo veřejná podpora") -> Další granty nebo veřejná podpora | D23: =SUM(F23:AI23) -> 0 | AJ23: +++
B24: 4.3 | C24: =HYPERLINK("#'Pokyny k použití'!C51","Ostatní peněžní a nepeněžní příjmy") -> Ostatní peněžní a nepeněžní příjmy | D24: =SUM(F24:AI24) -> 0 | AJ24: +++
B26: 5 | C26: =HYPERLINK("#'Pokyny k použití'!C52","Zůstatková hodnota investice") -> Zůstatková hodnota investice | D26: =SUM(F26:AI26) -> 0 | F26: =(IF(F4=Parametry!$C$7,$D$8*(1-(F4/Parametry!$C$11)),0))*F5 -> 0 | G26: =(IF(G4=Parametry!$C$7,$D$8*(1-(G4/Parametry!$C$11)),0))*G5 -> 0 | H26: =(IF(H4=Parametry!$C$7,$D$8*(1-(H4/Parametry!$C$11)),0))*H5 -> 0 | I26: =(IF(I4=Parametry!$C$7,$D$8*(1-(I4/Parametry!$C$11)),0))*I5 -> 0 | J26: =(IF(J4=Parametry!$C$7,$D$8*(1-(J4/Parametry!$C$11)),0))*J5 -> 0 | K26: =(IF(K4=Parametry!$C$7,$D$8*(1-(K4/Parametry!$C$11)),0))*K5 -> 0 | L26: =(IF(L4=Parametry!$C$7,$D$8*(1-(L4/Parametry!$C$11)),0))*L5 -> 0 | M26: =(IF(M4=Parametry!$C$7,$D$8*(1-(M4/Parametry!$C$11)),0))*M5 -> 0 | ... XFD26: =(IF(XFD4=Parametry!$C$7,$D$8*(1-(XFD4/Parametry!$C$11)),0))*XFD5 -> 0
AJ27: +++

Sheet Diskontované hodnoty ex post
B2: Diskontované hodnoty
B4: =HYPERLINK("#'Pokyny k použití'!C30","Referenční období") -> Referenční období | C4: Náklady a příjmy (skutečné hodnoty) | I4: Diskontované hodnoty
B5: 0 | C5: Celkové náklady v investiční fázi projektu | D5: Zůstatková hodnota investice | E5: Dotace | F5: Náklady v provozní fázi | G5: Příjmy v provozní fázi | H5: Čistý náklad (-) nebo příjem (+) | I5: Čistá současná hodnota tvořená náklady (-) a příjmy (+) (NPV) | J5: Kompenzace
B6: 1 | C6: =IF($B6="-","-",-INDEX('Vstupy ex post'!$F$7:$AI$7,1,$B6)) -> 0 | D6: =IF($B6="-","-",INDEX('Vstupy ex post'!$F$26:$AI$26,1,$B6)) -> 0 | E6: =IF($B6="-","-",INDEX('Vstupy ex post'!$F$10:$AI$10,1,$B6)) -> 0 | F6: =IF($B6="-","-",-(INDEX('Vstupy ex post'!$F$13:$AI$13,1,$B6))) -> 0 | G6: =IF($B6="-","-",INDEX('Vstupy ex post'!$F$21:$AI$21,1,$B6)) -> 0 | H6: =IF($B6="-","-",C6+D6+F6+G6) -> 0 | I6: =IFERROR(H6/((1+Parametry!$C$8)^$B5),"-") -> 0 | J6: =IFERROR(E6/((1+Parametry!$C$8)^$B5),"-") -> 0
B7: =IF(B6<Parametry!$C$7,B6+1,"-") -> 2 | C7: =IF($B7="-","-",-INDEX('Vstupy ex post'!$F$7:$AI$7,1,$B7)) -> 0 | D7: =IF($B7="-","-",INDEX('Vstupy ex post'!$F$26:$AI$26,1,$B7)) -> 0 | E7: =IF($B7="-","-",INDEX('Vstupy ex post'!$F$10:$AI$10,1,$B7)) -> 0 | F7: =IF($B7="-","-",-(INDEX('Vstupy ex post'!$F$13:$AI$13,1,$B7))) -> 0 | G7: =IF($B7="-","-",INDEX('Vstupy ex post'!$F$21:$AI$21,1,$B7)) -> 0 | H7: =IF($B7="-","-",C7+D7+F7+G7) -> 0 | I7: =IFERROR(H7/((1+Parametry!$C$8)^$B6),"-") -> 0 | J7: =IFERROR(E7/((1+Parametry!$C$8)^$B6),"-") -> 0
B8: =IF(B7<Parametry!$C$7,B7+1,"-") -> 3 | C8: =IF($B8="-","-",-INDEX('Vstupy ex post'!$F$7:$AI$7,1,$B8)) -> 0 | D8: =IF($B8="-","-",INDEX('Vstupy ex post'!$F$26:$AI$26,1,$B8)) -> 0 | E8: =IF($B8="-","-",INDEX('Vstupy ex post'!$F$10:$AI$10,1,$B8)) -> 0 | F8: =IF($B8="-","-",-(INDEX('Vstupy ex post'!$F$13:$AI$13,1,$B8))) -> 0 | G8: =IF($B8="-","-",INDEX('Vstupy ex post'!$F$21:$AI$21,1,$B8)) -> 0 | H8: =IF($B8="-","-",C8+D8+F8+G8) -> 0 | I8: =IFERROR(H8/((1+Parametry!$C$8)^$B7),"-") -> 0 | J8: =IFERROR(E8/((1+Parametry!$C$8)^$B7),"-") -> 0
B9: =IF(B8<Parametry!$C$7,B8+1,"-") -> 4 | C9: =IF($B9="-","-",-INDEX('Vstupy ex post'!$F$7:$AI$7,1,$B9)) -> 0 | D9: =IF($B9="-","-",INDEX('Vstupy ex post'!$F$26:$AI$26,1,$B9)) -> 0 | E9: =IF($B9="-","-",INDEX('Vstupy ex post'!$F$10:$AI$10,1,$B9)) -> 0 | F9: =IF($B9="-","-",-(INDEX('Vstupy ex post'!$F$13:$AI$13,1,$B9))) -> 0 | G9: =IF($B9="-","-",INDEX('Vstupy ex post'!$F$21:$AI$21,1,$B9)) -> 0 | H9: =IF($B9="-","-",C9+D9+F9+G9) -> 0 | I9: =IFERROR(H9/((1+Parametry!$C$8)^$B8),"-") -> 0 | J9: =IFERROR(E9/((1+Parametry!$C$8)^$B8),"-") -> 0
B10: =IF(B9<Parametry!$C$7,B9+1,"-") -> 5 | C10: =IF($B10="-","-",-INDEX('Vstupy ex post'!$F$7:$AI$7,1,$B10)) -> 0 | D10: =IF($B10="-","-",INDEX('Vstupy ex post'!$F$26:$AI$26,1,$B10)) -> 0 | E10: =IF($B10="-","-",INDEX('Vstupy ex post'!$F$10:$AI$10,1,$B10)) -> 0 | F10: =IF($B10="-","-",-(INDEX('Vstupy ex post'!$F$13:$AI$13,1,$B10))) -> 0 | G10: =IF($B10="-","-",INDEX('Vstupy ex post'!$F$21:$AI$21,1,$B10)) -> 0 | H10: =IF($B10="-","-",C10+D10+F10+G10) -> 0 | I10: =IFERROR(H10/((1+Parametry!$C$8)^$B9),"-") -> 0 | J10: =IFERROR(E10/((1+Parametry!$C$8)^$B9),"-") -> 0
B11: =IF(B10<Parametry!$C$7,B10+1,"-") -> 6 | C11: =IF($B11="-","-",-INDEX('Vstupy ex post'!$F$7:$AI$7,1,$B11)) -> 0 | D11: =IF($B11="-","-",INDEX('Vstupy ex post'!$F$26:$AI$26,1,$B11)) -> 0 | E11: =IF($B11="-","-",INDEX('Vstupy ex post'!$F$10:$AI$10,1,$B11)) -> 0 | F11: =IF($B11="-","-",-(INDEX('Vstupy ex post'!$F$13:$AI$13,1,$B11))) -> 0 | G11: =IF($B11="-","-",INDEX('Vstupy ex post'!$F$21:$AI$21,1,$B11)) -> 0 | H11: =IF($B11="-","-",C11+D11+F11+G11) -> 0 | I11: =IFERROR(H11/((1+Parametry!$C$8)^$B10),"-") -> 0 | J11: =IFERROR(E11/((1+Parametry!$C$8)^$B10),"-") -> 0
B12: =IF(B11<Parametry!$C$7,B11+1,"-") -> 7 | C12: =IF($B12="-","-",-INDEX('Vstupy ex post'!$F$7:$AI$7,1,$B12)) -> 0 | D12: =IF($B12="-","-",INDEX('Vstupy ex post'!$F$26:$AI$26,1,$B12)) -> 0 | E12: =IF($B12="-","-",INDEX('Vstupy ex post'!$F$10:$AI$10,1,$B12)) -> 0 | F12: =IF($B12="-","-",-(INDEX('Vstupy ex post'!$F$13:$AI$13,1,$B12))) -> 0 | G12: =IF($B12="-","-",INDEX('Vstupy ex post'!$F$21:$AI$21,1,$B12)) -> 0 | H12: =IF($B12="-","-",C12+D12+F12+G12) -> 0 | I12: =IFERROR(H12/((1+Parametry!$C$8)^$B11),"-") -> 0 | J12: =IFERROR(E12/((1+Parametry!$C$8)^$B11),"-") -> 0
B13: =IF(B12<Parametry!$C$7,B12+1,"-") -> 8 | C13: =IF($B13="-","-",-INDEX('Vstupy ex post'!$F$7:$AI$7,1,$B13)) -> 0 | D13: =IF($B13="-","-",INDEX('Vstupy ex post'!$F$26:$AI$26,1,$B13)) -> 0 | E13: =IF($B13="-","-",INDEX('Vstupy ex post'!$F$10:$AI$10,1,$B13)) -> 0 | F13: =IF($B13="-","-",-(INDEX('Vstupy ex post'!$F$13:$AI$13,1,$B13))) -> 0 | G13: =IF($B13="-","-",INDEX('Vstupy ex post'!$F$21:$AI$21,1,$B13)) -> 0 | H13: =IF($B13="-","-",C13+D13+F13+G13) -> 0 | I13: =IFERROR(H13/((1+Parametry!$C$8)^$B12),"-") -> 0 | J13: =IFERROR(E13/((1+Parametry!$C$8)^$B12),"-") -> 0
B14: =IF(B13<Parametry!$C$7,B13+1,"-") -> 9 | C14: =IF($B14="-","-",-INDEX('Vstupy ex post'!$F$7:$AI$7,1,$B14)) -> 0 | D14: =IF($B14="-","-",INDEX('Vstupy ex post'!$F$26:$AI$26,1,$B14)) -> 0 | E14: =IF($B14="-","-",INDEX('Vstupy ex post'!$F$10:$AI$10,1,$B14)) -> 0 | F14: =IF($B14="-","-",-(INDEX('Vstupy ex post'!$F$13:$AI$13,1,$B14))) -> 0 | G14: =IF($B14="-","-",INDEX('Vstupy ex post'!$F$21:$AI$21,1,$B14)) -> 0 | H14: =IF($B14="-","-",C14+D14+F14+G14) -> 0 | I14: =IFERROR(H14/((1+Parametry!$C$8)^$B13),"-") -> 0 | J14: =IFERROR(E14/((1+Parametry!$C$8)^$B13),"-") -> 0
B15: =IF(B14<Parametry!$C$7,B14+1,"-") -> 10 | C15: =IF($B15="-","-",-INDEX('Vstupy ex post'!$F$7:$AI$7,1,$B15)) -> 0 | D15: =IF($B15="-","-",INDEX('Vstupy ex post'!$F$26:$AI$26,1,$B15)) -> 0 | E15: =IF($B15="-","-",INDEX('Vstupy ex post'!$F$10:$AI$10,1,$B15)) -> 0 | F15: =IF($B15="-","-",-(INDEX('Vstupy ex post'!$F$13:$AI$13,1,$B15))) -> 0 | G15: =IF($B15="-","-",INDEX('Vstupy ex post'!$F$21:$AI$21,1,$B15)) -> 0 | H15: =IF($B15="-","-",C15+D15+F15+G15) -> 0 | I15: =IFERROR(H15/((1+Parametry!$C$8)^$B14),"-") -> 0 | J15: =IFERROR(E15/((1+Parametry!$C$8)^$B14),"-") -> 0
B16: =IF(B15<Parametry!$C$7,B15+1,"-") -> 11 | C16: =IF($B16="-","-",-INDEX('Vstupy ex post'!$F$7:$AI$7,1,$B16)) -> 0 | D16: =IF($B16="-","-",INDEX('Vstupy ex post'!$F$26:$AI$26,1,$B16)) -> 0 | E16: =IF($B16="-","-",INDEX('Vstupy ex post'!$F$10:$AI$10,1,$B16)) -> 0 | F16: =IF($B16="-","-",-(INDEX('Vstupy ex post'!$F$13:$AI$13,1,$B16))) -> 0 | G16: =IF($B16="-","-",INDEX('Vstupy ex post'!$F$21:$AI$21,1,$B16)) -> 0 | H16: =IF($B16="-","-",C16+D16+F16+G16) -> 0 | I16: =IFERROR(H16/((1+Parametry!$C$8)^$B15),"-") -> 0 | J16: =IFERROR(E16/((1+Parametry!$C$8)^$B15),"-") -> 0
B17: =IF(B16<Parametry!$C$7,B16+1,"-") -> 12 | C17: =IF($B17="-","-",-INDEX('Vstupy ex post'!$F$7:$AI$7,1,$B17)) -> 0 | D17: =IF($B17="-","-",INDEX('Vstupy ex post'!$F$26:$AI$26,1,$B17)) -> 0 | E17: =IF($B17="-","-",INDEX('Vstupy ex post'!$F$10:$AI$10,1,$B17)) -> 0 | F17: =IF($B17="-","-",-(INDEX('Vstupy ex post'!$F$13:$AI$13,1,$B17))) -> 0 | G17: =IF($B17="-","-",INDEX('Vstupy ex post'!$F$21:$AI$21,1,$B17)) -> 0 | H17: =IF($B17="-","-",C17+D17+F17+G17) -> 0 | I17: =IFERROR(H17/((1+Parametry!$C$8)^$B16),"-") -> 0 | J17: =IFERROR(E17/((1+Parametry!$C$8)^$B16),"-") -> 0
B18: =IF(B17<Parametry!$C$7,B17+1,"-") -> 13 | C18: =IF($B18="-","-",-INDEX('Vstupy ex post'!$F$7:$AI$7,1,$B18)) -> 0 | D18: =IF($B18="-","-",INDEX('Vstupy ex post'!$F$26:$AI$26,1,$B18)) -> 0 | E18: =IF($B18="-","-",INDEX('Vstupy ex post'!$F$10:$AI$10,1,$B18)) -> 0 | F18: =IF($B18="-","-",-(INDEX('Vstupy ex post'!$F$13:$AI$13,1,$B18))) -> 0 | G18: =IF($B18="-","-",INDEX('Vstupy ex post'!$F$21:$AI$21,1,$B18)) -> 0 | H18: =IF($B18="-","-",C18+D18+F18+G18) -> 0 | I18: =IFERROR(H18/((1+Parametry!$C$8)^$B17),"-") -> 0 | J18: =IFERROR(E18/((1+Parametry!$C$8)^$B17),"-") -> 0
... B35: =IF(B34<Parametry!$C$7,B34+1,"-") -> - | C35: =IF($B35="-","-",-INDEX('Vstupy ex post'!$F$7:$AI$7,1,$B35)) -> - | D35: =IF($B35="-","-",INDEX('Vstupy ex post'!$F$26:$AI$26,1,$B35)) -> - | E35: =IF($B35="-","-",INDEX('Vstupy ex post'!$F$10:$AI$10,1,$B35)) -> - | F35: =IF($B35="-","-",-(INDEX('Vstupy ex post'!$F$13:$AI$13,1,$B35))) -> - | G35: =IF($B35="-","-",INDEX('Vstupy ex post'!$F$21:$AI$21,1,$B35)) -> - | H35: =IF($B35="-","-",C35+D35+F35+G35) -> - | I35: =IFERROR(H35/((1+Parametry!$C$8)^$B34),"-") -> - | J35: =IFERROR(E35/((1+Parametry!$C$8)^$B34),"-") -> -
B36: Celkem | C36: =SUM(C6:C35) -> 0 | D36: =SUM(D6:D35) -> 0 | E36: =SUM(E6:E35) -> 0 | F36: =SUM(F6:F35) -> 0 | G36: =SUM(G6:G35) -> 0 | H36: =SUM(H6:H35) -> 0 | I36: =SUM(I6:I35) -> 0 | J36: =SUM(J6:J35) -> 0
C37: =IF('Vstupy ex post'!D7=-'Diskontované hodnoty ex post'!C36,"ok","error") -> ok | D37: =IF('Vstupy ex post'!D26='Diskontované hodnoty ex post'!D36,"ok","error") -> ok | E37: =IF('Vstupy ex post'!D10='Diskontované hodnoty ex post'!E36,"ok","error") -> ok | F37: =IF('Vstupy ex post'!D13=-'Diskontované hodnoty ex post'!F36,"ok","error") -> ok | G37: =IF('Vstupy ex post'!D21='Diskontované hodnoty ex post'!G36,"ok","error") -> ok

Sheet Kontrola ex post
C2: Kontrola nadměrné kompenzace ex post | I2: ="Kontrola za období " & (Parametry!$C$6 - 2) & " až " & Parametry!$C$6 -> Kontrola za období 2023 až 2025
C3: =Parametry!C4 -> Projekt
C4: =HYPERLINK("#'Pokyny k použití'!C17","Víceletá kontrola během celého období pověření") -> Víceletá kontrola během celého období pověření
C5: (čisté současné hodnoty)
C6: Čisté náklady (-) nebo čisté výnosy (+) | G6: ='Diskontované hodnoty ex post'!I36 -> 0
C7: Maximální kompenzace veřejných služeb | G7: =-G6 -> 0
C8: Skutečná kompenzace veřejných služeb | G8: ='Diskontované hodnoty ex post'!J36 -> 0
C10: Kontrolní výpočet: | E10: =VLOOKUP(Parametry!$C$6-Parametry!$C$5+1,'Kontrola ex post'!$C$19:$F$48,4) -> 0 | F10: < | G10: =-VLOOKUP(Parametry!$C$6-Parametry!$C$5+1,'Kontrola ex post'!$C$19:$F$48,3) -> 0 | H10: =IF($G$7 >= 0, ROUND(G10-E10,2), -$G$8) -> 0 | I10: =IF(E10<G10,"Není nadměrná kompenzace v kontrolovaném období","Nadměrná kompenzace v kontrolovaném období") -> Nadměrná kompenzace v kontrolovaném období
E11: =G8 -> 0 | F11: < | G11: =G7 -> 0 | H11: =IF($G$7 >= 0, ROUND(G11-E11,2), -$G$8) -> 0 | I11: =IF(E11<G11,"Nehrozí nadměrná kompenzace na konci pověření","Hrozí nadměrná kompenzace na konci pověření") -> Hrozí nadměrná kompenzace na konci pověření
C13: Referenční období (roky) | G13: =Parametry!C7 -> 20
C14: Diskontní sazba | G14: =Parametry!C8 -> 0.0543
C16: =HYPERLINK("#'Pokyny k použití'!C22","Pravidelné kontroly během celého období pověření") -> Pravidelné kontroly během celého období pověření
C17: Kontrola kompenzace
C18: Rok | D18: Kontrolní rok | E18: Čisté současné náklady (kumulativní) | F18: Kompenzace (průměrná, kumulativní) | G18: Překompenzace | H18: =HYPERLINK("#'Pokyny k použití'!C55","Přenos") -> Přenos | I18: =HYPERLINK("#'Pokyny k použití'!C56","Výše vratky určené SFPI") -> Výše vratky určené SFPI
C19: 1 | D19: =IF('Diskontované hodnoty ex post'!B6>Parametry!$C$7,0,IF(OR(MOD('Diskontované hodnoty ex post'!B6,Parametry!$C$9)=0,'Diskontované hodnoty ex post'!B6=Parametry!$C$7),1,0)) -> 0 | E19: =IF($D19=1,SUM('Diskontované hodnoty ex post'!I$6:$I6),0) -> 0 | F19: =IF($D19=1,(SUM('Diskontované hodnoty ex post'!J$6:$J6)*(COUNT('Diskontované hodnoty ex post'!J$6:$J6)/Parametry!$C$7)),0) -> 0 | G19: {=IF($D19=1,_xlfn.IFS(F19<=-E19,,F19>-E19,IF(E19<=0, E19+F19, F19)),0)} -> 0 | H19: {=_xlfn.IFS($D19=0,0,G19=0,0,AND(G19>0,G19<(F19/10)),G19,AND(G19>0,G19>(F19/10)),0)} -> 0 | I19: {=IFERROR(IF(D19=0,0,(_xlfn.IFS(H19>0,H19,G19>0,G19-SUM($I18:I$19)))),0)} -> 0
C20: =C19+1 -> 2 | D20: =IF('Diskontované hodnoty ex post'!B7>Parametry!$C$7,0,IF(OR(MOD('Diskontované hodnoty ex post'!B7,Parametry!$C$9)=0,'Diskontované hodnoty ex post'!B7=Parametry!$C$7),1,0)) -> 0 | E20: =IF($D20=1,SUM('Diskontované hodnoty ex post'!I$6:$I7),0) -> 0 | F20: =IF($D20=1,(SUM('Diskontované hodnoty ex post'!J$6:$J7)*(COUNT('Diskontované hodnoty ex post'!J$6:$J7)/Parametry!$C$7)),0) -> 0 | G20: {=IF($D20=1,_xlfn.IFS(F20<=-E20,,F20>-E20,IF(E20<=0, E20+F20, F20)),0)} -> 0 | H20: {=_xlfn.IFS($D20=0,0,G20=0,0,AND(G20>0,G20<(F20/10)),G20,AND(G20>0,G20>(F20/10)),0)} -> 0 | I20: {=IFERROR(IF(D20=0,0,(_xlfn.IFS(H20>0,H20,G20>0,G20-SUM($I19:I$19)))),0)} -> 0
C21: =C20+1 -> 3 | D21: =IF('Diskontované hodnoty ex post'!B8>Parametry!$C$7,0,IF(OR(MOD('Diskontované hodnoty ex post'!B8,Parametry!$C$9)=0,'Diskontované hodnoty ex post'!B8=Parametry!$C$7),1,0)) -> 1 | E21: =IF($D21=1,SUM('Diskontované hodnoty ex post'!I$6:$I8),0) -> 0 | F21: =IF($D21=1,(SUM('Diskontované hodnoty ex post'!J$6:$J8)*(COUNT('Diskontované hodnoty ex post'!J$6:$J8)/Parametry!$C$7)),0) -> 0 | G21: {=IF($D21=1,_xlfn.IFS(F21<=-E21,,F21>-E21,IF(E21<=0, E21+F21, F21)),0)} -> 0 | H21: {=_xlfn.IFS($D21=0,0,G21=0,0,AND(G21>0,G21<(F21/10)),G21,AND(G21>0,G21>(F21/10)),0)} -> 0 | I21: {=IFERROR(IF(D21=0,0,(_xlfn.IFS(H21>0,H21,G21>0,G21-SUM($I$19:I20)))),0)} -> 0
C22: =C21+1 -> 4 | D22: =IF('Diskontované hodnoty ex post'!B9>Parametry!$C$7,0,IF(OR(MOD('Diskontované hodnoty ex post'!B9,Parametry!$C$9)=0,'Diskontované hodnoty ex post'!B9=Parametry!$C$7),1,0)) -> 0 | E22: =IF($D22=1,SUM('Diskontované hodnoty ex post'!I$6:$I9),0) -> 0 | F22: =IF($D22=1,(SUM('Diskontované hodnoty ex post'!J$6:$J9)*(COUNT('Diskontované hodnoty ex post'!J$6:$J9)/Parametry!$C$7)),0) -> 0 | G22: {=IF($D22=1,_xlfn.IFS(F22<=-E22,,F22>-E22,IF(E22<=0, E22+F22, F22)),0)} -> 0 | H22: {=_xlfn.IFS($D22=0,0,G22=0,0,AND(G22>0,G22<(F22/10)),G22,AND(G22>0,G22>(F22/10)),0)} -> 0 | I22: {=IFERROR(IF(D22=0,0,(_xlfn.IFS(H22>0,H22,G22>0,G22-SUM($I$19:I21)))),0)} -> 0
C23: =C22+1 -> 5 | D23: =IF('Diskontované hodnoty ex post'!B10>Parametry!$C$7,0,IF(OR(MOD('Diskontované hodnoty ex post'!B10,Parametry!$C$9)=0,'Diskontované hodnoty ex post'!B10=Parametry!$C$7),1,0)) -> 0 | E23: =IF($D23=1,SUM('Diskontované hodnoty ex post'!I$6:$I10),0) -> 0 | F23: =IF($D23=1,(SUM('Diskontované hodnoty ex post'!J$6:$J10)*(COUNT('Diskontované hodnoty ex post'!J$6:$J10)/Parametry!$C$7)),0) -> 0 | G23: {=IF($D23=1,_xlfn.IFS(F23<=-E23,,F23>-E23,IF(E23<=0, E23+F23, F23)),0)} -> 0 | H23: {=_xlfn.IFS($D23=0,0,G23=0,0,AND(G23>0,G23<(F23/10)),G23,AND(G23>0,G23>(F23/10)),0)} -> 0 | I23: {=IFERROR(IF(D23=0,0,(_xlfn.IFS(H23>0,H23,G23>0,G23-SUM($I$19:I22)))),0)} -> 0
C24: =C23+1 -> 6 | D24: =IF('Diskontované hodnoty ex post'!B11>Parametry!$C$7,0,IF(OR(MOD('Diskontované hodnoty ex post'!B11,Parametry!$C$9)=0,'Diskontované hodnoty ex post'!B11=Parametry!$C$7),1,0)) -> 1 | E24: =IF($D24=1,SUM('Diskontované hodnoty ex post'!I$6:$I11),0) -> 0 | F24: =IF($D24=1,(SUM('Diskontované hodnoty ex post'!J$6:$J11)*(COUNT('Diskontované hodnoty ex post'!J$6:$J11)/Parametry!$C$7)),0) -> 0 | G24: {=IF($D24=1,_xlfn.IFS(F24<=-E24,,F24>-E24,IF(E24<=0, E24+F24, F24)),0)} -> 0 | H24: {=_xlfn.IFS($D24=0,0,G24=0,0,AND(G24>0,G24<(F24/10)),G24,AND(G24>0,G24>(F24/10)),0)} -> 0 | I24: {=IFERROR(IF(D24=0,0,(_xlfn.IFS(H24>0,H24,G24>0,G24-SUM($I$19:I23)))),0)} -> 0
C25: =C24+1 -> 7 | D25: =IF('Diskontované hodnoty ex post'!B12>Parametry!$C$7,0,IF(OR(MOD('Diskontované hodnoty ex post'!B12,Parametry!$C$9)=0,'Diskontované hodnoty ex post'!B12=Parametry!$C$7),1,0)) -> 0 | E25: =IF($D25=1,SUM('Diskontované hodnoty ex post'!I$6:$I12),0) -> 0 | F25: =IF($D25=1,(SUM('Diskontované hodnoty ex post'!J$6:$J12)*(COUNT('Diskontované hodnoty ex post'!J$6:$J12)/Parametry!$C$7)),0) -> 0 | G25: {=IF($D25=1,_xlfn.IFS(F25<=-E25,,F25>-E25,IF(E25<=0, E25+F25, F25)),0)} -> 0 | H25: {=_xlfn.IFS($D25=0,0,G25=0,0,AND(G25>0,G25<(F25/10)),G25,AND(G25>0,G25>(F25/10)),0)} -> 0 | I25: {=IFERROR(IF(D25=0,0,(_xlfn.IFS(H25>0,H25,G25>0,G25-SUM($I$19:I24)))),0)} -> 0
C26: =C25+1 -> 8 | D26: =IF('Diskontované hodnoty ex post'!B13>Parametry!$C$7,0,IF(OR(MOD('Diskontované hodnoty ex post'!B13,Parametry!$C$9)=0,'Diskontované hodnoty ex post'!B13=Parametry!$C$7),1,0)) -> 0 | E26: =IF($D26=1,SUM('Diskontované hodnoty ex post'!I$6:$I13),0) -> 0 | F26: =IF($D26=1,(SUM('Diskontované hodnoty ex post'!J$6:$J13)*(COUNT('Diskontované hodnoty ex post'!J$6:$J13)/Parametry!$C$7)),0) -> 0 | G26: {=IF($D26=1,_xlfn.IFS(F26<=-E26,,F26>-E26,IF(E26<=0, E26+F26, F26)),0)} -> 0 | H26: {=_xlfn.IFS($D26=0,0,G26=0,0,AND(G26>0,G26<(F26/10)),G26,AND(G26>0,G26>(F26/10)),0)} -> 0 | I26: {=IFERROR(IF(D26=0,0,(_xlfn.IFS(H26>0,H26,G26>0,G26-SUM($I$19:I25)))),0)} -> 0
C27: =C26+1 -> 9 | D27: =IF('Diskontované hodnoty ex post'!B14>Parametry!$C$7,0,IF(OR(MOD('Diskontované hodnoty ex post'!B14,Parametry!$C$9)=0,'Diskontované hodnoty ex post'!B14=Parametry!$C$7),1,0)) -> 1 | E27: =IF($D27=1,SUM('Diskontované hodnoty ex post'!I$6:$I14),0) -> 0 | F27: =IF($D27=1,(SUM('Diskontované hodnoty ex post'!J$6:$J14)*(COUNT('Diskontované hodnoty ex post'!J$6:$J14)/Parametry!$C$7)),0) -> 0 | G27: {=IF($D27=1,_xlfn.IFS(F27<=-E27,,F27>-E27,IF(E27<=0, E27+F27, F27)),0)} -> 0 | H27: {=_xlfn.IFS($D27=0,0,G27=0,0,AND(G27>0,G27<(F27/10)),G27,AND(G27>0,G27>(F27/10)),0)} -> 0 | I27: {=IFERROR(IF(D27=0,0,(_xlfn.IFS(H27>0,H27,G27>0,G27-SUM($I$19:I26)))),0)} -> 0
C28: =C27+1 -> 10 | D28: =IF('Diskontované hodnoty ex post'!B15>Parametry!$C$7,0,IF(OR(MOD('Diskontované hodnoty ex post'!B15,Parametry!$C$9)=0,'Diskontované hodnoty ex post'!B15=Parametry!$C$7),1,0)) -> 0 | E28: =IF($D28=1,SUM('Diskontované hodnoty ex post'!I$6:$I15),0) -> 0 | F28: =IF($D28=1,(SUM('Diskontované hodnoty ex post'!J$6:$J15)*(COUNT('Diskontované hodnoty ex post'!J$6:$J15)/Parametry!$C$7)),0) -> 0 | G28: {=IF($D28=1,_xlfn.IFS(F28<=-E28,,F28>-E28,IF(E28<=0, E28+F28, F28)),0)} -> 0 | H28: {=_xlfn.IFS($D28=0,0,G28=0,0,AND(G28>0,G28<(F28/10)),G28,AND(G28>0,G28>(F28/10)),0)} -> 0 | I28: {=IFERROR(IF(D28=0,0,(_xlfn.IFS(H28>0,H28,G28>0,G28-SUM($I$19:I27)))),0)} -> 0
