Workbook

Sheet Pokyny pro vyplnění
A1: Pokyny pro vyplnění
A2: K vyplnění a uložení je třeba verze MS EXCEL schopná pracovat se soubory s příponou .xslx.
A3: Data z listů jsou přenášena do navazujících listů sešitu a slouží pro výpočet výše dotace.
A4: Údaje vyplňte postupně na kartě Tabulka podlahových ploch, Členění nákladů a Výpočet dotace
A5: Listy Tabulka podlahových ploch, Členění nákladů a Výpočet dotace doložte podepsané i ve formátu xls jako součást investičního záměru
A6: Tyto tabulky a výpočty jsou určeny pro pořízení jednotlivých sociálních bytů nebo sociálního bytového domu.
A9: Tabulka podlahových ploch
A10: Tabulka slouží pro určení celkové plochy sociálních bytů a poměru ploch rozhodných pro stanovení poměrového určení způsobilých nákladů.
A11: Vypište jednotlivé byty a místnosti včetně jejich ploch dle projektové dokumentace a to dle stanovených kategorií.
A12: Pro vložení více řádků označte celý řádek a stikněte zkratku CTRL +
A13: Podíl podlahových ploch pro poměrné určení způsbilých nákladů se vypočítá jako podíl ploch (1.+ 4. / 1. + 3. + 4.)
A16: Členění nákladů
... A26: Požadovaná výše dotace nesmí být větší, než celkové způsobilé náklady a zároveň menší nebo rovna maximální výši dotace vypočtené pro dotaci v režimu vyrovnávací platby SOHZ nebo de minimis SOHZ.

Sheet Tabulka podlahových ploch
B1: Tabulka podlahových ploch v bytovém domě
B2: Doložte jakou přílohu k žádosti o dotaci dle NV 112/2019 Sb.
B4: Žadatel:
B6: Umístění stavby :
B9: Sociální byty (bytové jednotky a místnosti označte shodně s projektovou dokumentací, plochu uvádějte vč. příslušenství bytu - prostor užívaných společně s bytem tj. vč. uzamykatelné komory, sklepů, sklepních kójí, balkónů, teras a lodžií) | C9: plocha v m²
B10: např. byt č.1 = předsíň (1.01) + pokoj+KK (1.02) + koupelna (1.03) + balkon (1.04) + sklep (1.05) | C10: 0
C11: 0
C12: 0
C13: 0
C14: 0
C15: 0
C16: 0
B17: 1. Celková podlahová plocha sociálních bytových jednotek | C17: =SUM(C10:C16) -> 0
B19: Ostatní místnosti a komunikační prostory (doplnit výčtem níže : např. kočárkárna, místnost pro invalidní vozíky, společenská místnost, místnost pro společné stravování, úklidová komora, společné prádelny a sušárny, kotelna, technická místnost, výtahová šachta, chodby, schodiště, haly, recepce, sklepní kóje (které nejsou příslušenstvím bytu) ... ) | C19: plocha v m²
B20: např. kočárkárna (1.06) | C20: 0
B21: např. technická místnost (1.07) | C21: 0
B22: např. chodba (1.08) | C22: 0
B23: např. chodba (1.09) | C23: 0
C24: 0
C25: 0
C26: 0
C27: 0
B28: 2. Celková plocha ostatních místností a komunikačních prostor | C28: =SUM(C20:C27) -> 0
B30: Garáže, komerční prostory a jiné prostory, jejichž užívání nesouvisí s bydlením (dle § 13 písm. f) | C30: plocha v m²
C31: 0
C32: 0
C33: 0
C34: 0
B35: 3. Celková plocha prostor dle § 13 písm. f) | C35: =SUM(C31:C34) -> 0
B37: Místnosti pro osobu poskytující domovní služby nebo pro sociálního pracovníka a samostatná místnost se záchodem a umyvadlem (dle § 12 odst. 4.) | C37: plocha v m²
C38: 0
C39: 0
C40: 0
B41: 4. Celková plocha místností dle § 12 odst. 4. | C41: =SUM(C38:C40) -> 0
B43: Celková podlahová plocha bytového domu | C43: =C17+C28+C35+C41 -> 0
B45: Podíl ploch uznatelých nákladů (plochy 1.+ 4. / 1. + 3. + 4.) | C45: =(C17+C41)/(C17+C35+C41) -> #DIV/0!
B48: ……………………………………………………………………………. | C48: ……………
B49: jméno (vypsat) a podpis oprávněného zástupce žadatele o dotaci | C49: datum

Sheet Členění nákladů
A1: Členění nákladů v Kč
A3: Doložte jakoupřílohu k žádosti o dotaci dle NV 112/2019 Sb.
A5: Způsob určení způsobilých nákladů | B5: dle položkového rozpočtu
A7: Způsobilé náklady
A8: Způsobilé náklady se určí buď podle rozpočtových položek, nebo poměrnou částí podlahových ploch sociálních bytů k podlahové ploše všech bytů v domě. Je-li součástí investičního záměru také pořízení garáže, komerčních prostor a jiných prostor, jejichž užívání nesouvisí s bydlením, určí se způsobilé náklady podle rozpočtových položek, nebo poměrnou částí podlahových ploch sociálních bytů k podlahové ploše všech bytů a těchto prostor. Částky uvádějte včetně DPH (s vyjímkou části DPH u niž vznikne nárok na odpočet).
A9: koupě pozemku, jehož součástí je stavba | B9: 0
A10: stavební náklady na výstavbu nájemních bytů (zařízení staveniště, pozemní úpravy a stavební práce, materiál a jeho doprava, demoliční práce, revize a zkoušky) | B10: 0
A11: náklady kompletní demolice budovy (uvádějte 30% z nákladu) | B11: 0
A12: stavební a technický dozor | B12: 0
A13: Celkové způsobilé náklady | B13: =IF(B5="dle položkového rozpočtu",'Výpočtový list'!F9,'Výpočtový list'!F12) -> 0
A16: Nezpůsobilé náklady
A17: zpracování posudků a odhadů | B17: 0
A18: zpracování projektové dokumentace | B18: 0
A19: související s vypracováním žádosti o podporu | B19: 0
A20: neuznatelné náklady na garáže a komerční prostory a jiné prostory nesouvisející s bydlením | B20: 0
A21: náklady související s nezpůsobilými náklady a jiné náklady (například úpravy okolí, parkovací stání, osvětlení mimo budovu, přístupový chodník a další) | B21: 0
A22: dopočet nezpůsobilých nákladů při použití poměrové části podlahových ploch | B22: =IF(B5="dle položkového rozpočtu",0,'Výpočtový list'!F15) -> 0
A23: Celkové nezpůsobilé náklady | B23: =SUM(B17:B22) -> 0
A26: CELKOVÉ NÁKLADY | B26: =B13+B23 -> 0
A31: ……………………………………………………………………………. | B31: ……………
A32: jméno (vypsat) a podpis oprávněného zástupce žadatele o dotaci | B32: datum

Sheet Výpočet dotace
A1: Výpočet výše dotace
A4: Doložte jakou přílohu k žádosti o dotaci dle NV 112/2019 Sb.
A7: Žadatel:
A10: Umístění stavby :
A15: Pole | B15: Vyberte ze seznamu nebo doplňte
A16: Způsob pořízení dle § 2 písm. k) nebo l) NV
A17: Forma dotace dle § 6 písm. a) NV
A18: V režimu de minimis vyčerpáno aktuálně (EUR) | B18: 0
A19: Podlahová plocha sociálních bytů celkem v m2 | B19: ='Tabulka podlahových ploch'!C17 -> 0
A22: Maximální výše dotace v režimu vyrovnávací platby SOHZ (Kč) | B22: ='Výpočtový list'!B41 -> 0
A23: Maximální výše dotace v režimu de minimis SOHZ (Kč) - orientační výpočet dle kurzu 25,75 KČ/EUR | B23: ='Výpočtový list'!B50 -> 0
A24: Celkové způsobilé náklady | B24: ='Členění nákladů'!B13 -> 0
A25: Požadovaná výše dotace | B25: 0
A32: ……………………………………………………………………………. | B32: …………………………………..
A33: jméno (vypsat) a podpis oprávněného zástupce žadatele o dotaci | B33: datum

Sheet Výpočtový list
B2: Způsob stanovení způsobilých nákladů - seznam | F2: Podíl ploch uznatelých nákladů
B3: dle položkového rozpočtu | F3: ='Tabulka podlahových ploch'!C45 -> #DIV/0!
B4: poměrovou částí podlahových ploch
F5: Podíl ploch neuznatelých nákladů
B6: Způsob pořízení - seznam | F6: =1-F3 -> #DIV/0!
B7: k) 1. novostavba
B8: k) 2. stavební úprava prostor určených k jiným účelům než k bydlení | F8: Celkové způsobilé náklady - položkové
B9: k) 3. nástavba nebo přístavba | F9: =SUM('Členění nákladů'!B9:B12) -> 0
B10: k) 4. stavební úprava bytového domu nezpůsobilého k bydlení
B11: l) modernizace | F11: Poměrově uznatelná část způsobilých nákladů
F12: =F9*F3 -> #DIV/0!
B14: Forma dotace - seznam | F14: Poměrově neuznatelná část způsobilých nákladů
B15: de minimis SOHZ | F15: =F9*F6 -> #DIV/0!
B16: vyrovnávací platba SOHZ
B19: Průměrné náklady na m2
B20: k) 1. novostavba | C20: 32989
B21: k) 2. stavební úprava prostor určených k jiným účelům než k bydlení | C21: 29307
B22: k) 3. nástavba nebo přístavba | C22: 29307
B23: k) 4. stavební úprava bytového domu nezpůsobilého k bydlení | C23: 29307
B24: l) modernizace | C24: 16494.5
B25: j) koupě | C25: 32989
B30: Uživatelem zvolené parametry
B31: Typ pořízení
B32: ='Výpočet dotace'!B16 -> 0
B34: Celková plocha sociálních bytů v m2
B35: ='Tabulka podlahových ploch'!C17 -> 0
B37: Průměrné náklady na m2
B38: =IF('Výpočet dotace'!B16="k) 1. novostavba",C20,(IF('Výpočet dotace'!B16="k) 2. stavební úprava prostor určených k jiným účelům než k bydlení",C21,IF('Výpočet dotace'!B16="k) 3. nástavba nebo přístavba",C22,IF('Výpočet dotace'!B16="k) 4. stavební úprava bytového domu nezpůsobilého k bydlení",C23,IF('Výpočet dotace'!B16="l) modernizace",C24,IF('Výpočet dotace'!B16="j) koupě",C25,0))))))) -> 0
B40: Maximální výše dotace
B41: =B35*B38 -> 0
B43: V režimu de minimis SOHZ zbývá dočerpat (EUR)
B44: =500000-'Výpočet dotace'!B18 -> 500000
B46: V režimu de minimis SOHZ zbývá dočerpat (CZK)
B47: =B44*25.73 -> 12865000
B49: Maximální výše dotace de minimis
B50: =IF(B47>B41,B41,B47) -> 0
