Workbook
Name Typ_zadatele_: [1]Seznamy!$E$4:$E$7

Sheet Pokyny
A1: Kalkulace maximální výše podpory v režimu Investiční podpory na místní infrastrukturu
A2: Tento model slouží jako informativní podklad pro žadatele o úvěr v režimu podpory Investiční podpory na místní infrastrukturu v rámci programu Výstavba pro obce a to za účelem stanovení maximální výše podpory a případné vratky podpory dle mechnismu zpětného vymáhání podpor. Další informace jsou dostupné v kapitole 3.1. Příručky žadatele o úvěr.
A4: Vstupní data
A5: Parametry úvěru
A6: Výše úvěru (v Kč)
A7: Zadejte požadovanou výši úvěru v souladu s výpočtem stanoveným v příloze Výpočet výše úvěru - dostupné byty a dostupný dům - tabulka Výpočet úvěru.
A8: Splatnost úvěru (v letech)
A9: Zvolte splatnost úvěru. Maximálně však 30 let.
A10: Rating žadatele
A11: Zvolte ratingovou kategorii žadatele stupně A až C-. Ratingová kategorie je pro účely programu stanovena společností CRIF – Czech Credit Bureau, a.s.
A13: Rozpočet investičního záměru
A14: Zadejte náklady investičního záměru v souladu s přílohou Výpočet výše úvěru - dostupné byty a dostupný dům - tabulka Členění nákladů.
... A28: Zadané hodnoty a provedené kalkulace v tomto modelu jsou pouze orientační a jsou určeny pro informativní účely. Posouzení, zda výše podpory (hrubý grantový ekvivalent) nepřekročila daný limit podpory, bude provedeno po doplacení úvěru (nebo po uplynutí lhůty 20 let, pokud bude úvěr doplacen dříve) za využití mechanismu zpětného vymáhání. Více informací naleznete v kapitole 3.1. Příručky žadatele o úvěr.

Sheet Vstupní data
A1: Kalkulace maximální výše podpory v režimu Investiční podpory na místní infrastrukturu
A3: Investiční záměr
A4: Název
A5: Žadatel
A8: Parametry úvěru
A9: Výše úvěru (v Kč) | C9: 0
A10: Splatnost úvěru (v letech)
A11: Rating žadatele
A13: Rozpočet investičního záměru | C13: Celkem | D13: 1. rok | E13: 2. rok | F13: 3. rok | G13: 4. rok | H13: 5. rok | I13: 6. rok | J13: 7. rok | K13: 8. rok | L13: 9. rok | M13: 10. rok | N13: 11. rok | O13: 12. rok | P13: 13. rok | Q13: 14. rok | R13: 15. rok | S13: 16. rok | T13: 17. rok | U13: 18. rok | V13: 19. rok | W13: 20. rok | X13: 21. rok | Y13: 22. rok | Z13: 23. rok | AA13: 24. rok | AB13: 25. rok | AC13: 26. rok | AD13: 27. rok | AE13: 28. rok | AF13: 29. rok | AG13: 30. rok
A14: 1 | B14: Celkové náklady | C14: =C15+C16 -> 0 | D14: =D15+D16 -> 0 | E14: =E15+E16 -> 0 | F14: =F15+F16 -> 0 | G14: =G15+G16 -> 0 | H14: =H15+H16 -> 0
A15: 1.1 | B15: Celkové způsobilé náklady | C15: =SUM(D15:H15) -> 0 | D15: 0 | E15: 0 | F15: 0 | G15: 0 | H15: 0
A16: 1.2 | B16: Celkové nezpůsobilé náklady | C16: =SUM(D16:H16) -> 0 | D16: 0 | E16: 0 | F16: 0 | G16: 0 | H16: 0
A17: Provozní náklady
A18: 1.1 | B18: Náklady související s provozem dostupných bytů | C18: =C19+C20+C22+C23+C21+(IF(C24>((C23+C22)*0.15),(C23+C22)*0.15,C24)) -> 0 | D18: =D19+D20+D22+D23+D21+(IF(D24>((D23+D22)*0.15),(D23+D22)*0.15,D24)) -> 0 | E18: =E19+E20+E22+E23+E21+(IF(E24>((E23+E22)*0.15),(E23+E22)*0.15,E24)) -> 0 | F18: =F19+F20+F22+F23+F21+(IF(F24>((F23+F22)*0.15),(F23+F22)*0.15,F24)) -> 0 | G18: =G19+G20+G22+G23+G21+(IF(G24>((G23+G22)*0.15),(G23+G22)*0.15,G24)) -> 0 | H18: =H19+H20+H22+H23+H21+(IF(H24>((H23+H22)*0.15),(H23+H22)*0.15,H24)) -> 0 | I18: =I19+I20+I22+I23+I21+(IF(I24>((I23+I22)*0.15),(I23+I22)*0.15,I24)) -> 0 | J18: =J19+J20+J22+J23+J21+(IF(J24>((J23+J22)*0.15),(J23+J22)*0.15,J24)) -> 0 | ... AG18: =AG19+AG20+AG22+AG23+AG21+(IF(AG24>((AG23+AG22)*0.15),(AG23+AG22)*0.15,AG24)) -> 0
A19: 1.1.1 | B19: Mzdové náklady | C19: =SUM(D19:AG19) -> 0 | D19: 0 | E19: 0 | F19: 0 | G19: 0 | H19: 0 | I19: 0 | J19: 0 | K19: 0 | L19: 0 | M19: 0 | N19: 0 | O19: 0 | P19: 0 | Q19: 0 | R19: 0 | S19: 0 | T19: 0 | U19: 0 | V19: 0 | W19: 0 | X19: 0 | Y19: 0 | Z19: 0 | AA19: 0 | AB19: 0 | AC19: 0 | AD19: 0 | AE19: 0 | AF19: 0 | AG19: 0
A20: 1.1.2 | B20: Údržba | C20: =SUM(D20:AG20) -> 0 | D20: 0 | E20: 0 | F20: 0 | G20: 0 | H20: 0 | I20: 0 | J20: 0 | K20: 0 | L20: 0 | M20: 0 | N20: 0 | O20: 0 | P20: 0 | Q20: 0 | R20: 0 | S20: 0 | T20: 0 | U20: 0 | V20: 0 | W20: 0 | X20: 0 | Y20: 0 | Z20: 0 | AA20: 0 | AB20: 0 | AC20: 0 | AD20: 0 | AE20: 0 | AF20: 0 | AG20: 0
A21: 1.1.3 | B21: Opravy | C21: =SUM(D21:AG21) -> 0 | D21: 0 | E21: 0 | F21: 0 | G21: 0 | H21: 0 | I21: 0 | J21: 0 | K21: 0 | L21: 0 | M21: 0 | N21: 0 | O21: 0 | P21: 0 | Q21: 0 | R21: 0 | S21: 0 | T21: 0 | U21: 0 | V21: 0 | W21: 0 | X21: 0 | Y21: 0 | Z21: 0 | AA21: 0 | AB21: 0 | AC21: 0 | AD21: 0 | AE21: 0 | AF21: 0 | AG21: 0
A22: 1.1.4 | B22: Investice | C22: =SUM(D22:AG22) -> 0 | D22: 0 | E22: 0 | F22: 0 | G22: 0 | H22: 0 | I22: 0 | J22: 0 | K22: 0 | L22: 0 | M22: 0 | N22: 0 | O22: 0 | P22: 0 | Q22: 0 | R22: 0 | S22: 0 | T22: 0 | U22: 0 | V22: 0 | W22: 0 | X22: 0 | Y22: 0 | Z22: 0 | AA22: 0 | AB22: 0 | AC22: 0 | AD22: 0 | AE22: 0 | AF22: 0 | AG22: 0
A23: 1.1.5 | B23: Služby spojené s užíváním dostupných bytů | C23: =SUM(D23:AG23) -> 0 | D23: 0 | E23: 0 | F23: 0 | G23: 0 | H23: 0 | I23: 0 | J23: 0 | K23: 0 | L23: 0 | M23: 0 | N23: 0 | O23: 0 | P23: 0 | Q23: 0 | R23: 0 | S23: 0 | T23: 0 | U23: 0 | V23: 0 | W23: 0 | X23: 0 | Y23: 0 | Z23: 0 | AA23: 0 | AB23: 0 | AC23: 0 | AD23: 0 | AE23: 0 | AF23: 0 | AG23: 0
A24: 1.1.6 | B24: Režijní náklady spojené s provozem domu | C24: =SUM(D24:AG24) -> 0 | D24: =0.15*(D23+D22) -> 0 | E24: =0.15*(E23+E22) -> 0 | F24: =0.15*(F23+F22) -> 0 | G24: =0.15*(G23+G22) -> 0 | H24: =0.15*(H23+H22) -> 0 | I24: =0.15*(I23+I22) -> 0 | J24: =0.15*(J23+J22) -> 0 | K24: =0.15*(K23+K22) -> 0 | ... W24: =0.15*(W23+W22) -> 0 | X24: 0 | Y24: 0 | Z24: 0 | AA24: 0 | AB24: 0 | AC24: 0 | AD24: 0 | AE24: 0 | AF24: 0 | AG24: 0
A25: Provozní výnosy
A26: 1.2 | B26: Výnosy související s pronájmem dostupných bytů | C26: =C27+C28+C29+C30 -> 0 | D26: =D27+D28+D29+D30 -> 0 | E26: =E27+E28+E29+E30 -> 0 | F26: =F27+F28+F29+F30 -> 0 | G26: =G27+G28+G29+G30 -> 0 | H26: =H27+H28+H29+H30 -> 0 | I26: =I27+I28+I29+I30 -> 0 | J26: =J27+J28+J29+J30 -> 0 | ... AF26: =AF27+AF28+AF29+AF30 -> 0 | AG26: =AG27+AG28+AG29 -> 0
A27: 1.2.1 | B27: Stanovené nájemné | C27: =SUM(D27:AG27) -> 0 | D27: 0 | E27: 0 | F27: 0 | G27: 0 | H27: 0 | I27: 0 | J27: 0 | K27: 0 | L27: 0 | M27: 0 | N27: 0 | O27: 0 | P27: 0 | Q27: 0 | R27: 0 | S27: 0 | T27: 0 | U27: 0 | V27: 0 | W27: 0 | X27: 0 | Y27: 0 | Z27: 0 | AA27: 0 | AB27: 0 | AC27: 0 | AD27: 0 | AE27: 0 | AF27: 0 | AG27: 0
A28: 1.2.2 | B28: Vybrané platby za služby | C28: =SUM(D28:AG28) -> 0 | D28: 0 | E28: 0 | F28: 0 | G28: 0 | H28: 0 | I28: 0 | J28: 0 | K28: 0 | L28: 0 | M28: 0 | N28: 0 | O28: 0 | P28: 0 | Q28: 0 | R28: 0 | S28: 0 | T28: 0 | U28: 0 | V28: 0 | W28: 0 | X28: 0 | Y28: 0 | Z28: 0 | AA28: 0 | AB28: 0 | AC28: 0 | AD28: 0 | AE28: 0 | AF28: 0 | AG28: 0
A29: 1.2.3 | B29: Jiné peněžní a nepěněžní příjmy | C29: =SUM(D29:AG29) -> 0 | D29: 0 | E29: 0 | F29: 0 | G29: 0 | H29: 0 | I29: 0 | J29: 0 | K29: 0 | L29: 0 | M29: 0 | N29: 0 | O29: 0 | P29: 0 | Q29: 0 | R29: 0 | S29: 0 | T29: 0 | U29: 0 | V29: 0 | W29: 0 | X29: 0 | Y29: 0 | Z29: 0 | AA29: 0 | AB29: 0 | AC29: 0 | AD29: 0 | AE29: 0 | AF29: 0 | AG29: 0
A30: 1.2.4 | B30: Zůstatková hodnota investice | C30: =W30 -> 0 | AG30: =IF(C15-((C15*0.014)+((C15*0.034)*HGE!F4))>0,C15-((C15*0.014)+((C15*0.034)*HGE!F4)),0) -> 0

Sheet Výpočet
A1: Kalkulace maximální výše podpory v režimu Investiční podpora na místní infrastrukturu
B4: Základní úroková sazba (% p.a.)
B5: Riziková přirážka (v procentních bodech) | F5: =IF('Vstupní data'!C11="A",'Výpočtový list'!D3,IF('Vstupní data'!C11="B+",'Výpočtový list'!D4,IF('Vstupní data'!C11="B",'Výpočtový list'!D5,IF('Vstupní data'!C11="B-",'Výpočtový list'!D6,IF('Vstupní data'!C11="C+",'Výpočtový list'!D7,IF('Vstupní data'!C11="C",'Výpočtový list'!D8,IF('Vstupní data'!C11="C-",'Výpočtový list'!D9,0))))))) -> 0
B6: Referenční úroková sazba (% p.a.) | F6: =F4+F5/100 -> 0
B7: Zvýhodněná úroková sazba (% p.a.) | F7: =IF(F4-0.005<1,0.01,F4-0.005) -> 0.01
B8: Diskontní sazba (% p.a.) | F8: =HGE!G12 -> 0.01
B9: Celkové způsobilé náklady | F9: ='Vstupní data'!C15 -> 0
B10: Zůstatková cena po uplynutí referenčního období | F10: ='Vstupní data'!AG30 -> 0
C12: Vstupní hodnoty | F12: Diskontované hodnoty
A13: Referenční období | C13: provozní náklady | D13: provozní příjmy | E13: zůstatková hodnota | F13: provozní náklady | G13: provozní příjmy | H13: zůstatková hodnota | I13: Čisté cash flow
A14: 1 | B14: Rok zahájení investičního záměru | C14: ='Vstupní data'!D18 -> 0 | D14: ='Vstupní data'!D26 -> 0 | F14: =C14/(1+$F$8)^$A14 -> 0 | G14: =D14/(1+$F$8)^$A14 -> 0 | I14: =G14+H14-F14 -> 0
A15: 2 | B15: .rok | C15: ='Vstupní data'!E18 -> 0 | D15: ='Vstupní data'!E26 -> 0 | F15: =C15/(1+$F$8)^$A15 -> 0 | G15: =D15/(1+$F$8)^$A15 -> 0 | I15: =G15+H15-F15 -> 0
A16: 3 | B16: .rok | C16: ='Vstupní data'!F18 -> 0 | D16: ='Vstupní data'!F26 -> 0 | F16: =C16/(1+$F$8)^$A16 -> 0 | G16: =D16/(1+$F$8)^$A16 -> 0 | I16: =G16+H16-F16 -> 0
A17: 4 | B17: .rok | C17: ='Vstupní data'!G18 -> 0 | D17: ='Vstupní data'!G26 -> 0 | F17: =C17/(1+$F$8)^$A17 -> 0 | G17: =D17/(1+$F$8)^$A17 -> 0 | I17: =G17+H17-F17 -> 0
A18: 5 | B18: .rok | C18: ='Vstupní data'!H18 -> 0 | D18: ='Vstupní data'!H26 -> 0 | F18: =C18/(1+$F$8)^$A18 -> 0 | G18: =D18/(1+$F$8)^$A18 -> 0 | I18: =G18+H18-F18 -> 0
A19: 6 | B19: .rok | C19: ='Vstupní data'!I18 -> 0 | D19: ='Vstupní data'!I26 -> 0 | F19: =C19/(1+$F$8)^$A19 -> 0 | G19: =D19/(1+$F$8)^$A19 -> 0 | I19: =G19+H19-F19 -> 0
A20: 7 | B20: .rok | C20: ='Vstupní data'!J18 -> 0 | D20: ='Vstupní data'!J26 -> 0 | F20: =C20/(1+$F$8)^$A20 -> 0 | G20: =D20/(1+$F$8)^$A20 -> 0 | I20: =G20+H20-F20 -> 0
A21: 8 | B21: .rok | C21: ='Vstupní data'!K18 -> 0 | D21: ='Vstupní data'!K26 -> 0 | F21: =C21/(1+$F$8)^$A21 -> 0 | G21: =D21/(1+$F$8)^$A21 -> 0 | I21: =G21+H21-F21 -> 0
A22: 9 | B22: .rok | C22: ='Vstupní data'!L18 -> 0 | D22: ='Vstupní data'!L26 -> 0 | F22: =C22/(1+$F$8)^$A22 -> 0 | G22: =D22/(1+$F$8)^$A22 -> 0 | I22: =G22+H22-F22 -> 0
A23: 10 | B23: .rok | C23: ='Vstupní data'!M18 -> 0 | D23: ='Vstupní data'!M26 -> 0 | F23: =C23/(1+$F$8)^$A23 -> 0 | G23: =D23/(1+$F$8)^$A23 -> 0 | I23: =G23+H23-F23 -> 0
A24: 11 | B24: .rok | C24: ='Vstupní data'!N18 -> 0 | D24: ='Vstupní data'!N26 -> 0 | F24: =C24/(1+$F$8)^$A24 -> 0 | G24: =D24/(1+$F$8)^$A24 -> 0 | I24: =G24+H24-F24 -> 0
A25: 12 | B25: .rok | C25: ='Vstupní data'!O18 -> 0 | D25: ='Vstupní data'!O26 -> 0 | F25: =C25/(1+$F$8)^$A25 -> 0 | G25: =D25/(1+$F$8)^$A25 -> 0 | I25: =G25+H25-F25 -> 0
A26: 13 | B26: .rok | C26: ='Vstupní data'!P18 -> 0 | D26: ='Vstupní data'!P26 -> 0 | F26: =C26/(1+$F$8)^$A26 -> 0 | G26: =D26/(1+$F$8)^$A26 -> 0 | I26: =G26+H26-F26 -> 0
A27: 14 | B27: .rok | C27: ='Vstupní data'!Q18 -> 0 | D27: ='Vstupní data'!Q26 -> 0 | F27: =C27/(1+$F$8)^$A27 -> 0 | G27: =D27/(1+$F$8)^$A27 -> 0 | I27: =G27+H27-F27 -> 0
A28: 15 | B28: .rok | C28: ='Vstupní data'!R18 -> 0 | D28: ='Vstupní data'!R26 -> 0 | F28: =C28/(1+$F$8)^$A28 -> 0 | G28: =D28/(1+$F$8)^$A28 -> 0 | I28: =G28+H28-F28 -> 0
A29: 16 | B29: .rok | C29: ='Vstupní data'!S18 -> 0 | D29: ='Vstupní data'!S26 -> 0 | F29: =C29/(1+$F$8)^$A29 -> 0 | G29: =D29/(1+$F$8)^$A29 -> 0 | I29: =G29+H29-F29 -> 0
A30: 17 | B30: .rok | C30: ='Vstupní data'!T18 -> 0 | D30: ='Vstupní data'!T26 -> 0 | F30: =C30/(1+$F$8)^$A30 -> 0 | G30: =D30/(1+$F$8)^$A30 -> 0 | I30: =G30+H30-F30 -> 0
A31: 18 | B31: .rok | C31: ='Vstupní data'!U18 -> 0 | D31: ='Vstupní data'!U26 -> 0 | F31: =C31/(1+$F$8)^$A31 -> 0 | G31: =D31/(1+$F$8)^$A31 -> 0 | I31: =G31+H31-F31 -> 0
A32: 19 | B32: .rok | C32: ='Vstupní data'!V18 -> 0 | D32: ='Vstupní data'!V26 -> 0 | F32: =C32/(1+$F$8)^$A32 -> 0 | G32: =D32/(1+$F$8)^$A32 -> 0 | I32: =G32+H32-F32 -> 0
A33: 20 | B33: .rok | C33: ='Vstupní data'!W18 -> 0 | D33: ='Vstupní data'!W26 -> 0 | E33: =IF(A33='Vstupní data'!$C$10,'Vstupní data'!$AG$30,"") | F33: =C33/(1+$F$8)^$A33 -> 0 | G33: =D33/(1+$F$8)^$A33 -> 0 | H33: =IF(E33="","",(E33/(1+$F$8)^$A33)) | I33: =IF(C33="","",IF(E33='Vstupní data'!$C$10,G33+H33-F33,G33-F33)) -> #VALUE!
A34: 21 | B34: .rok | C34: =IF(A34>'Vstupní data'!$C$10,"",'Vstupní data'!X18) | D34: =IF(A34>'Vstupní data'!$C$10,"",'Vstupní data'!X26) | E34: =IF(A34='Vstupní data'!$C$10,'Vstupní data'!$AG$30,"") | F34: =IF(C34="","",C34/(1+$F$8)^$A34) | G34: =IF(D34="","",D34/(1+$F$8)^$A34) | H34: =IF(E34="","",(E34/(1+$F$8)^$A34)) | I34: =IF(C34="","",IF(E34='Vstupní data'!$C$10,G34+H34-F34,G34-F34))
A35: 22 | B35: .rok | C35: =IF(A35>'Vstupní data'!$C$10,"",'Vstupní data'!Y18) | D35: =IF(A35>'Vstupní data'!$C$10,"",'Vstupní data'!Y26) | E35: =IF(A35='Vstupní data'!$C$10,'Vstupní data'!$AG$30,"") | F35: =IF(C35="","",C35/(1+$F$8)^$A35) | G35: =IF(D35="","",D35/(1+$F$8)^$A35) | H35: =IF(E35="","",(E35/(1+$F$8)^$A35)) | I35: =IF(C35="","",IF(E35='Vstupní data'!$C$10,G35+H35-F35,G35-F35))
A36: 23 | B36: .rok | C36: =IF(A36>'Vstupní data'!$C$10,"",'Vstupní data'!Z18) | D36: =IF(A36>'Vstupní data'!$C$10,"",'Vstupní data'!Z26) | E36: =IF(A36='Vstupní data'!$C$10,'Vstupní data'!$AG$30,"") | F36: =IF(C36="","",C36/(1+$F$8)^$A36) | G36: =IF(D36="","",D36/(1+$F$8)^$A36) | H36: =IF(E36="","",(E36/(1+$F$8)^$A36)) | I36: =IF(C36="","",IF(E36='Vstupní data'!$C$10,G36+H36-F36,G36-F36))
A37: 24 | B37: .rok | C37: =IF(A37>'Vstupní data'!$C$10,"",'Vstupní data'!AA18) | D37: =IF(A37>'Vstupní data'!$C$10,"",'Vstupní data'!AA26) | E37: =IF(A37='Vstupní data'!$C$10,'Vstupní data'!$AG$30,"") | F37: =IF(C37="","",C37/(1+$F$8)^$A37) | G37: =IF(D37="","",D37/(1+$F$8)^$A37) | H37: =IF(E37="","",(E37/(1+$F$8)^$A37)) | I37: =IF(C37="","",IF(E37='Vstupní data'!$C$10,G37+H37-F37,G37-F37))
A38: 25 | B38: .rok | C38: =IF(A38>'Vstupní data'!$C$10,"",'Vstupní data'!AB18) | D38: =IF(A38>'Vstupní data'!$C$10,"",'Vstupní data'!AB26) | E38: =IF(A38='Vstupní data'!$C$10,'Vstupní data'!$AG$30,"") | F38: =IF(C38="","",C38/(1+$F$8)^$A38) | G38: =IF(D38="","",D38/(1+$F$8)^$A38) | H38: =IF(E38="","",(E38/(1+$F$8)^$A38)) | I38: =IF(C38="","",IF(E38='Vstupní data'!$C$10,G38+H38-F38,G38-F38))
A39: 26 | B39: .rok | C39: =IF(A39>'Vstupní data'!$C$10,"",'Vstupní data'!AC18) | D39: =IF(A39>'Vstupní data'!$C$10,"",'Vstupní data'!AC26) | E39: =IF(A39='Vstupní data'!$C$10,'Vstupní data'!$AG$30,"") | F39: =IF(C39="","",C39/(1+$F$8)^$A39) | G39: =IF(D39="","",D39/(1+$F$8)^$A39) | H39: =IF(E39="","",(E39/(1+$F$8)^$A39)) | I39: =IF(C39="","",IF(E39='Vstupní data'!$C$10,G39+H39-F39,G39-F39))
A40: 27 | B40: .rok | C40: =IF(A40>'Vstupní data'!$C$10,"",'Vstupní data'!AD18) | D40: =IF(A40>'Vstupní data'!$C$10,"",'Vstupní data'!AD26) | E40: =IF(A40='Vstupní data'!$C$10,'Vstupní data'!$AG$30,"") | F40: =IF(C40="","",C40/(1+$F$8)^$A40) | G40: =IF(D40="","",D40/(1+$F$8)^$A40) | H40: =IF(E40="","",(E40/(1+$F$8)^$A40)) | I40: =IF(C40="","",IF(E40='Vstupní data'!$C$10,G40+H40-F40,G40-F40))
A41: 28 | B41: .rok | C41: =IF(A41>'Vstupní data'!$C$10,"",'Vstupní data'!AE18) | D41: =IF(A41>'Vstupní data'!$C$10,"",'Vstupní data'!AE26) | E41: =IF(A41='Vstupní data'!$C$10,'Vstupní data'!$AG$30,"") | F41: =IF(C41="","",C41/(1+$F$8)^$A41) | G41: =IF(D41="","",D41/(1+$F$8)^$A41) | H41: =IF(E41="","",(E41/(1+$F$8)^$A41)) | I41: =IF(C41="","",IF(E41='Vstupní data'!$C$10,G41+H41-F41,G41-F41))
A42: 29 | B42: .rok | C42: =IF(A42>'Vstupní data'!$C$10,"",'Vstupní data'!AF18) | D42: =IF(A42>'Vstupní data'!$C$10,"",'Vstupní data'!AF26) | E42: =IF(A42='Vstupní data'!$C$10,'Vstupní data'!$AG$30,"") | F42: =IF(C42="","",C42/(1+$F$8)^$A42) | G42: =IF(D42="","",D42/(1+$F$8)^$A42) | H42: =IF(E42="","",(E42/(1+$F$8)^$A42)) | I42: =IF(C42="","",IF(E42='Vstupní data'!$C$10,G42+H42-F42,G42-F42))
A43: 30 | B43: .rok | C43: =IF(A43>'Vstupní data'!$C$10,"",'Vstupní data'!AG18) | D43: =IF(A43>'Vstupní data'!$C$10,"",'Vstupní data'!AG26) | E43: =IF(A43='Vstupní data'!$C$10,'Vstupní data'!$AG$30,"") | F43: =IF(C43="","",C43/(1+$F$8)^$A43) | G43: =IF(D43="","",D43/(1+$F$8)^$A43) | H43: =IF(E43="","",(E43/(1+$F$8)^$A43)) | I43: =IF(C43="","",IF(E43='Vstupní data'!$C$10,G43+H43-F43,G43-F43))
...

Sheet HGE
B2: Parametry úvěru | F2: Hodnota
B3: Výše úvěru | F3: ='Vstupní data'!C9 -> 0
B4: Počet let | F4: ='Vstupní data'!C10 -> 0
B5: Počet splátek v roce | F5: 12 | O5: Suma ur. difer.
B6: Sazba | G6: % | O6: =AC378 -> 0 | P6: 728713.79
B7: Základní referenční sazba | G7: =Výpočet!F4 -> 0
B8: Úrokové zvýhodnění | G8: 0.005 | O8: HGE
B9: Zvýhodněný úrok | G9: =G7-G8 -> -0.005 | O9: =AD378 -> 0
B10: Riziková přírážka | G10: =Výpočet!F5 -> 0
B11: Komerční úrok | G11: =G7+G10/100 -> 0
B12: Diskontní sazba | G12: =G7+0.01 -> 0.01
B15: Zvýhodněný úrok | O15: Komerční úrok
B16: Počet splátek | C16: =F4*F5 -> 0 | E16: =VALUE(C16) -> 0 | I16: Období | J16: Splátka | K16: Úrok | L16: Úmor | M16: Zůstatek úvěru | O16: Počet splátek | P16: =F4*F5 -> 0 | R16: =VALUE(P16) -> 0 | V16: Období | W16: Splátka | X16: Úrok | Y16: Úmor | Z16: Zůstatek úvěru | AC16: Úrokový rozdíl | AD16: Úrokový rozdíl diskontovaný
B17: Anuitní splátka | C17: =-PMT(C24,C25,C26) -> #NUM! | I17: 0 | J17: 0 | K17: 0 | L17: 0 | M17: =F3 -> 0 | O17: Anuitní splátka | P17: =-PMT(P24,P25,P26) -> #NUM! | V17: 0 | W17: 0 | X17: 0 | Y17: 0 | Z17: =F3 -> 0 | AC17: 0 | AD17: 0
B18: Úrok celkem | C18: =SUM(K18:K377) -> 0 | I18: 1 | J18: =IF(I18>$E$16,0,$C$17) -> 0 | K18: =M17*$C$24 -> 0 | L18: =J18-K18 -> 0 | M18: =M17-L18 -> 0 | O18: Úrok celkem | P18: =SUM(X18:X378) -> 0 | V18: 1 | W18: =IF(V18>$R$16,0,$P$17) -> 0 | X18: =Z17*$P$24 -> 0 | Y18: =W18-X18 -> 0 | Z18: =Z17-Y18 -> 0 | AC18: =X18-K18 -> 0 | AD18: =AC18/(1+$G$12)^(V18/12) -> 0
B19: Úmor celkem | C19: =SUM(L18:L377) -> 0 | I19: 2 | J19: =IF(I19>$E$16,0,$C$17) -> 0 | K19: =M18*$C$24 -> 0 | L19: =J19-K19 -> 0 | M19: =M18-L19 -> 0 | O19: Úmor celkem | P19: =SUM(Y18:Y378) -> 0 | V19: 2 | W19: =IF(V19>$R$16,0,$P$17) -> 0 | X19: =Z18*$P$24 -> 0 | Y19: =W19-X19 -> 0 | Z19: =Z18-Y19 -> 0 | AC19: =X19-K19 -> 0 | AD19: =AC19/(1+$G$12)^(V19/12) -> 0
B20: Celkem zaplaceno | D20: =SUM(C18:D19) -> 0 | I20: 3 | J20: =IF(I20>$E$16,0,$C$17) -> 0 | K20: =M19*$C$24 -> 0 | L20: =J20-K20 -> 0 | M20: =M19-L20 -> 0 | O20: Celkem zaplaceno | Q20: =SUM(P18:Q19) -> 0 | V20: 3 | W20: =IF(V20>$R$16,0,$P$17) -> 0 | X20: =Z19*$P$24 -> 0 | Y20: =W20-X20 -> 0 | Z20: =Z19-Y20 -> 0 | AC20: =X20-K20 -> 0 | AD20: =AC20/(1+$G$12)^(V20/12) -> 0
I21: 4 | J21: =IF(I21>$E$16,0,$C$17) -> 0 | K21: =M20*$C$24 -> 0 | L21: =J21-K21 -> 0 | M21: =M20-L21 -> 0 | V21: 4 | W21: =IF(V21>$R$16,0,$P$17) -> 0 | X21: =Z20*$P$24 -> 0 | Y21: =W21-X21 -> 0 | Z21: =Z20-Y21 -> 0 | AC21: =X21-K21 -> 0 | AD21: =AC21/(1+$G$12)^(V21/12) -> 0
B22: Výpočet | I22: 5 | J22: =IF(I22>$E$16,0,$C$17) -> 0 | K22: =M21*$C$24 -> 0 | L22: =J22-K22 -> 0 | M22: =M21-L22 -> 0 | O22: Výpočet | V22: 5 | W22: =IF(V22>$R$16,0,$P$17) -> 0 | X22: =Z21*$P$24 -> 0 | Y22: =W22-X22 -> 0 | Z22: =Z21-Y22 -> 0 | AC22: =X22-K22 -> 0 | AD22: =AC22/(1+$G$12)^(V22/12) -> 0
B23: Parametr | C23: Hodnota | I23: 6 | J23: =IF(I23>$E$16,0,$C$17) -> 0 | K23: =M22*$C$24 -> 0 | L23: =J23-K23 -> 0 | M23: =M22-L23 -> 0 | O23: Parametr | P23: Hodnota | V23: 6 | W23: =IF(V23>$R$16,0,$P$17) -> 0 | X23: =Z22*$P$24 -> 0 | Y23: =W23-X23 -> 0 | Z23: =Z22-Y23 -> 0 | AC23: =X23-K23 -> 0 | AD23: =AC23/(1+$G$12)^(V23/12) -> 0
B24: sazba | C24: =G9/F5 -> -0.00041666667 | I24: 7 | J24: =IF(I24>$E$16,0,$C$17) -> 0 | K24: =M23*$C$24 -> 0 | L24: =J24-K24 -> 0 | M24: =M23-L24 -> 0 | O24: sazba | P24: =G11/F5 -> 0 | V24: 7 | W24: =IF(V24>$R$16,0,$P$17) -> 0 | X24: =Z23*$P$24 -> 0 | Y24: =W24-X24 -> 0 | Z24: =Z23-Y24 -> 0 | AC24: =X24-K24 -> 0 | AD24: =AC24/(1+$G$12)^(V24/12) -> 0
B25: pper | C25: =F5*F4 -> 0 | I25: 8 | J25: =IF(I25>$E$16,0,$C$17) -> 0 | K25: =M24*$C$24 -> 0 | L25: =J25-K25 -> 0 | M25: =M24-L25 -> 0 | O25: pper | P25: =F5*F4 -> 0 | V25: 8 | W25: =IF(V25>$R$16,0,$P$17) -> 0 | X25: =Z24*$P$24 -> 0 | Y25: =W25-X25 -> 0 | Z25: =Z24-Y25 -> 0 | AC25: =X25-K25 -> 0 | AD25: =AC25/(1+$G$12)^(V25/12) -> 0
B26: souč_hod | C26: =F3 -> 0 | I26: 9 | J26: =IF(I26>$E$16,0,$C$17) -> 0 | K26: =M25*$C$24 -> 0 | L26: =J26-K26 -> 0 | M26: =M25-L26 -> 0 | O26: souč_hod | P26: =F3 -> 0 | V26: 9 | W26: =IF(V26>$R$16,0,$P$17) -> 0 | X26: =Z25*$P$24 -> 0 | Y26: =W26-X26 -> 0 | Z26: =Z25-Y26 -> 0 | AC26: =X26-K26 -> 0 | AD26: =AC26/(1+$G$12)^(V26/12) -> 0
I27: 10 | J27: =IF(I27>$E$16,0,$C$17) -> 0 | K27: =M26*$C$24 -> 0 | L27: =J27-K27 -> 0 | M27: =M26-L27 -> 0 | V27: 10 | W27: =IF(V27>$R$16,0,$P$17) -> 0 | X27: =Z26*$P$24 -> 0 | Y27: =W27-X27 -> 0 | Z27: =Z26-Y27 -> 0 | AC27: =X27-K27 -> 0 | AD27: =AC27/(1+$G$12)^(V27/12) -> 0
I28: 11 | J28: =IF(I28>$E$16,0,$C$17) -> 0 | K28: =M27*$C$24 -> 0 | L28: =J28-K28 -> 0 | M28: =M27-L28 -> 0 | V28: 11 | W28: =IF(V28>$R$16,0,$P$17) -> 0 | X28: =Z27*$P$24 -> 0 | Y28: =W28-X28 -> 0 | Z28: =Z27-Y28 -> 0 | AC28: =X28-K28 -> 0 | AD28: =AC28/(1+$G$12)^(V28/12) -> 0
I29: 12 | J29: =IF(I29>$E$16,0,$C$17) -> 0 | K29: =M28*$C$24 -> 0 | L29: =J29-K29 -> 0 | M29: =M28-L29 -> 0 | V29: 12 | W29: =IF(V29>$R$16,0,$P$17) -> 0 | X29: =Z28*$P$24 -> 0 | Y29: =W29-X29 -> 0 | Z29: =Z28-Y29 -> 0 | AC29: =X29-K29 -> 0 | AD29: =AC29/(1+$G$12)^(V29/12) -> 0
I30: 13 | J30: =IF(I30>$E$16,0,$C$17) -> 0 | K30: =M29*$C$24 -> 0 | L30: =J30-K30 -> 0 | M30: =M29-L30 -> 0 | V30: 13 | W30: =IF(V30>$R$16,0,$P$17) -> 0 | X30: =Z29*$P$24 -> 0 | Y30: =W30-X30 -> 0 | Z30: =Z29-Y30 -> 0 | AC30: =X30-K30 -> 0 | AD30: =AC30/(1+$G$12)^(V30/12) -> 0
I31: 14 | J31: =IF(I31>$E$16,0,$C$17) -> 0 | K31: =M30*$C$24 -> 0 | L31: =J31-K31 -> 0 | M31: =M30-L31 -> 0 | V31: 14 | W31: =IF(V31>$R$16,0,$P$17) -> 0 | X31: =Z30*$P$24 -> 0 | Y31: =W31-X31 -> 0 | Z31: =Z30-Y31 -> 0 | AC31: =X31-K31 -> 0 | AD31: =AC31/(1+$G$12)^(V31/12) -> 0
I32: 15 | J32: =IF(I32>$E$16,0,$C$17) -> 0 | K32: =M31*$C$24 -> 0 | L32: =J32-K32 -> 0 | M32: =M31-L32 -> 0 | V32: 15 | W32: =IF(V32>$R$16,0,$P$17) -> 0 | X32: =Z31*$P$24 -> 0 | Y32: =W32-X32 -> 0 | Z32: =Z31-Y32 -> 0 | AC32: =X32-K32 -> 0 | AD32: =AC32/(1+$G$12)^(V32/12) -> 0
I33: 16 | J33: =IF(I33>$E$16,0,$C$17) -> 0 | K33: =M32*$C$24 -> 0 | L33: =J33-K33 -> 0 | M33: =M32-L33 -> 0 | V33: 16 | W33: =IF(V33>$R$16,0,$P$17) -> 0 | X33: =Z32*$P$24 -> 0 | Y33: =W33-X33 -> 0 | Z33: =Z32-Y33 -> 0 | AC33: =X33-K33 -> 0 | AD33: =AC33/(1+$G$12)^(V33/12) -> 0
I34: 17 | J34: =IF(I34>$E$16,0,$C$17) -> 0 | K34: =M33*$C$24 -> 0 | L34: =J34-K34 -> 0 | M34: =M33-L34 -> 0 | V34: 17 | W34: =IF(V34>$R$16,0,$P$17) -> 0 | X34: =Z33*$P$24 -> 0 | Y34: =W34-X34 -> 0 | Z34: =Z33-Y34 -> 0 | AC34: =X34-K34 -> 0 | AD34: =AC34/(1+$G$12)^(V34/12) -> 0
I35: 18 | J35: =IF(I35>$E$16,0,$C$17) -> 0 | K35: =M34*$C$24 -> 0 | L35: =J35-K35 -> 0 | M35: =M34-L35 -> 0 | V35: 18 | W35: =IF(V35>$R$16,0,$P$17) -> 0 | X35: =Z34*$P$24 -> 0 | Y35: =W35-X35 -> 0 | Z35: =Z34-Y35 -> 0 | AC35: =X35-K35 -> 0 | AD35: =AC35/(1+$G$12)^(V35/12) -> 0
I36: 19 | J36: =IF(I36>$E$16,0,$C$17) -> 0 | K36: =M35*$C$24 -> 0 | L36: =J36-K36 -> 0 | M36: =M35-L36 -> 0 | V36: 19 | W36: =IF(V36>$R$16,0,$P$17) -> 0 | X36: =Z35*$P$24 -> 0 | Y36: =W36-X36 -> 0 | Z36: =Z35-Y36 -> 0 | AC36: =X36-K36 -> 0 | AD36: =AC36/(1+$G$12)^(V36/12) -> 0
I37: 20 | J37: =IF(I37>$E$16,0,$C$17) -> 0 | K37: =M36*$C$24 -> 0 | L37: =J37-K37 -> 0 | M37: =M36-L37 -> 0 | V37: 20 | W37: =IF(V37>$R$16,0,$P$17) -> 0 | X37: =Z36*$P$24 -> 0 | Y37: =W37-X37 -> 0 | Z37: =Z36-Y37 -> 0 | AC37: =X37-K37 -> 0 | AD37: =AC37/(1+$G$12)^(V37/12) -> 0
I38: 21 | J38: =IF(I38>$E$16,0,$C$17) -> 0 | K38: =M37*$C$24 -> 0 | L38: =J38-K38 -> 0 | M38: =M37-L38 -> 0 | V38: 21 | W38: =IF(V38>$R$16,0,$P$17) -> 0 | X38: =Z37*$P$24 -> 0 | Y38: =W38-X38 -> 0 | Z38: =Z37-Y38 -> 0 | AC38: =X38-K38 -> 0 | AD38: =AC38/(1+$G$12)^(V38/12) -> 0
... I377: 360 | J377: =IF(I377>$E$16,0,$C$17) -> 0 | K377: =M376*$C$24 -> 0 | L377: =J377-K377 -> 0 | M377: =M376-L377 -> 0 | V377: 360 | W377: =IF(V377>$R$16,0,$P$17) -> 0 | X377: =Z376*$P$24 -> 0 | Y377: =W377-X377 -> 0 | Z377: =Z376-Y377 -> 0 | AC377: =X377-K377 -> 0 | AD377: =AC377/(1+$G$12)^(V377/12) -> 0
AB378: SUMA | AC378: =SUM(AC17:AC377) -> 0 | AD378: =SUM(AD18:AD377) -> 0

Sheet Výpočtový list
B2: Rating obce | C2: Rating EU | D2: Riziková přírážka
B3: A | C3: AAA-A | D3: 0.6
B4: B+ | C4: AAA-A | D4: 0.6
B5: B | C5: AAA-A | D5: 0.6
B6: B- | C6: AAA-A | D6: 0.6
B7: C+ | C7: BBB | D7: 0.75
B8: C | C8: BB | D8: 1
B9: C- | C9: B | D9: 2.2
