Workbook

Sheet Pokyny pro vyplnění
A1: Pokyny pro vyplnění
A2: K vyplnění a uložení je třeba verze MS EXCEL schopná pracovat se soubory s příponou .xslx.
A3: Data z listů jsou přenášena do navazujících listů sešitu a slouží pro výpočet výše dotace a úvěru.
A4: Údaje vyplňte postupně na kartě Tabulka podlahových ploch, Členění nákladů Anebo Členění nákladů B a Výpočet dotace a úvěru.
A5: Listy Tabulka podlahových ploch, Členění nákladů A nebo Členění nákladů B a Výpočet dotace a úvěru doložte podepsané i ve formátu xls jako součást investičního záměru.
A6: Tyto tabulky a výpočty jsou určeny pro pořízení smíšeného bytového domu.
A9: Tabulka podlahových ploch
A10: Tabulka slouží pro určení celkové plochy sociálních a dostupných bytů a poměru ploch rozhodných pro stanovení poměrového určení způsobilých nákladů.
A11: Vypište všechny byty a místnosti včetně jejich ploch dle projektové dokumentace a to dle stanovených kategorií.
A12: Pro vložení více řádků označte celý řádek a stikněte zkratku CTRL +
A13: Podíl podlahových ploch pro poměrné určení způsobilých nákladů se vypočítá u sociálních bytů jako podíl ploch (1.+ 5. / 1.+ 2. + 4. + 5) a u dostupných bytů jako podíl ploch (2. / 1. + 2. + 4. + 5.)
A16: Členění nákladů A
... A32: Požadovaná výše úvěru nesmí být větší, než celkové způsobilé náklady.

Sheet Tabulka podlahových ploch
B1: Tabulka podlahových ploch v domě
B2: Doložte jakou přílohu k žádosti o dotaci dle NV č. 112/2019 Sb., ve znění pozdějších předpisů
B4: Žadatel:
B6: Umístění stavby:
B9: Sociální byty (bytové jednotky a místnosti označte shodně s projektovou dokumentací, plochu uvádějte vč. příslušenství bytu - prostor užívaných společně s bytem tj. vč. uzamykatelné komory a sklepů s plně obestavěným prostorem, balkónů, teras a lodžií) | C9: plocha v m²
B10: např. byt č.1 = předsíň (1.01) + pokoj+KK (1.02) + koupelna (1.03) + balkon (1.04) + sklep (1.05) | C10: 0
C11: 0
C12: 0
C13: 0
C14: 0
C15: 0
B16: 1. Celková podlahová plocha sociálních bytových jednotek | C16: =SUM(C10:C15) -> 0
B18: Dostupné byty (bytové jednotky a místnosti označte shodně s projektovou dokumentací, plochu uvádějte vč. příslušenství bytu - prostor užívaných společně s bytem tj. vč. uzamykatelné komory a sklepů s plně obestavěným prostorem, balkónů, teras a lodžií) | C18: plocha v m²
B19: např. byt č.2 = předsíň (2.01) + pokoj+KK (2.02) + koupelna (2.03) + balkon (2.04) + sklep (2.05) | C19: 0
C20: 0
C21: 0
C22: 0
C23: 0
C24: 0
C25: 0
B26: 2. Celková podlahová plocha dostupných bytových jednotek | C26: =SUM(C19:C25) -> 0
B28: Ostatní místnosti a komunikační prostory (doplnit výčtem níže : např. kočárkárna, místnost pro invalidní vozíky, společenská místnost, místnost pro společné stravování, úklidová komora, společné prádelny a sušárny, kotelna, technická místnost, výtahová šachta, chodby, schodiště, haly, recepce, sklepní kóje (které nejsou příslušenstvím bytu) ... ) | C28: plocha v m²
B29: např. kočárkárna (1.06) | C29: 0
B30: např. technická místnost (1.07) | C30: 0
B31: např. chodba (1.08) | C31: 0
B32: např. chodba (1.09) | C32: 0
C33: 0
C34: 0
C35: 0
C36: 0
B37: 3. Celková plocha ostatních místností a komunikačních prostor | C37: =SUM(C29:C36) -> 0
B39: Garáže, komerční prostory a jiné prostory, jejichž užívání nesouvisí s bydlením (dle § 13 písm. f) | C39: plocha v m²
C40: 0
C41: 0
C42: 0
C43: 0
B44: 4. Celková plocha prostor dle § 13 písm. f) | C44: =SUM(C40:C43) -> 0
B46: Místnosti pro osobu poskytující domovní služby nebo pro sociálního pracovníka a samostatná místnost se záchodem a umyvadlem (dle § 12 odst. 4.) | C46: plocha v m²
C47: 0
C48: 0
...

Sheet Členění nákladů A
A1: Členění nákladů v Kč (výstavba nebo modernizace)
A3: Doložte jako přílohu k žádosti o dotaci dle NV č. 112/2019 Sb., ve znění pozdějších předpisů
A5: Způsob určení způsobilých nákladů | B5: poměrovou částí podlahových ploch
A7: Způsobilé náklady
A8: Způsobilé náklady se určí buď podle rozpočtových položek, nebo poměrnou částí podlahových ploch sociálních bytů k podlahové ploše všech bytů v domě nebo dostupných bytů k podlahové ploše všech bytů v domě. Je-li součástí investičního záměru také pořízení garáže, komerčních prostor a jiných prostor, jejichž užívání nesouvisí s bydlením, určí se způsobilé náklady podle rozpočtových položek, nebo poměrnou částí podlahových ploch sociálních a dostupných bytů k podlahové ploše všech bytů a těchto prostor. Částky uvádějte včetně DPH (s vyjímkou části DPH u niž vznikne nárok na odpočet).
A9: koupě pozemku, jehož součástí je stavba | B9: 0
A10: stavební náklady na výstavbu nájemních bytů (zařízení staveniště, pozemní úpravy a stavební práce, materiál a jeho doprava, demoliční práce, revize a zkoušky) | B10: 0
A11: náklady kompletní demolice budovy (uvádějte 30% z nákladu) | B11: 0
A12: stavební a technický dozor | B12: 0
A13: Suma | B13: =SUM(B9:B12) -> 0
A15: Celkové způsobilé náklady SOCIÁLNÍ BYTY (dle poměrné části podlahové plochy) | B15: =B13*'Tabulka podlahových ploch'!C54 -> #DIV/0!
A16: Celkové způsobilé náklady DOSTUPNÉ BYTY (dle poměrné části podlahové plochy) | B16: =B13*'Tabulka podlahových ploch'!C56 -> #DIV/0!
A18: Nezpůsobilé náklady
A19: zpracování posudků a odhadů | B19: 0
A20: zpracování projektové dokumentace | B20: 0
A21: související s vypracováním žádosti o podporu | B21: 0
A22: náklady související s nezpůsobilými náklady a jiné náklady (například úpravy okolí, parkovací stání, osvětlení mimo budovu, přístupový chodník a další) - níže uveďte označení stavebních objektů, kapitoly, případně kód položky dle položkového rozpočtu | B22: 0
A29: neuznatelné náklady na garáže a komerční prostory a jiné prostory nesouvisející s bydlením vypočtené dle podlahové plochy | B29: =B13-B15-B16 -> #DIV/0!
A30: Celkové nezpůsobilé náklady | B30: =SUM(B19:B29) -> #DIV/0!
A33: CELKOVÉ NÁKLADY | B33: =B15+B16+B30 -> #DIV/0!
A38: ……………………………………………………………………………. | B38: ……………
A39: jméno (vypsat) a podpis oprávněného zástupce žadatele o podporu | B39: datum

Sheet Členění nákladů B
A1: Členění nákladů v Kč (koupě)
A3: Doložte jako přílohu k žádosti o dotaci dle NV č. 112/2019 Sb., ve znění pozdějších předpisů
A5: Způsob určení způsobilých nákladů | B5: poměrovou částí podlahových ploch
A7: Způsobilé náklady
A8: V případě koupě nemovité věci se porovnává cena sjednaná a cena obvyklá podle zákona č. 151/1997 Sb., o oceňování majetku a o změně některých zákonů. Způsobilým nákladem je nižší z těchto cen; jejich výši je žadatel povinen doložit.
A9: kupní cena nemovité věci (dle kupní smlouvy, návrhu kupní smlouvy nebo smlouvy o smlouvě budoucí kupní) | B9: 0
A10: cena obvyklá (dle zákona č. 151/1997 Sb., ve znění pozdějších předpisů) | B10: 0
A12: Celkové způsobilé náklady SOCIÁLNÍ BYTY (dle poměrné části podlahové plochy) | B12: ='Výpočtový list'!B71*'Tabulka podlahových ploch'!C54 -> #DIV/0!
A13: Celkové způsobilé náklady DOSTUPNÉ BYTY (dle poměrné části podlahové plochy) | B13: ='Výpočtový list'!B71*'Tabulka podlahových ploch'!C56 -> #DIV/0!
A15: Nezpůsobilé náklady
A16: zpracování posudků a odhadů | B16: 0
A17: zpracování projektové dokumentace | B17: 0
A18: související s vypracováním žádosti o podporu | B18: 0
A19: neuznatelné náklady na garáže a komerční prostory a jiné prostory nesouvisející s bydlením vypočtené dle podlahové plochy | B19: ='Výpočtový list'!B71-B12-B13 -> #DIV/0!
A20: Celkové nezpůsobilé náklady | B20: =SUM(B16:B19) -> #DIV/0!
A23: CELKOVÉ NÁKLADY | B23: =B12+B13+B20 -> #DIV/0!
A28: ……………………………………………………………………………. | B28: ……………
A29: jméno (vypsat) a podpis oprávněného zástupce žadatele o podporu | B29: datum

Sheet Výpočet dotace a úvěru
B1: Výpočet výše dotace a úvěru
B4: Doložte jako přílohu k žádosti o dotaci dle NV č. 112/2019 Sb., ve znění pozdějších předpisů
B7: Žadatel:
B10: Umístění stavby:
A13: Pole | C13: Vyberte ze seznamu nebo doplňte
A14: I. | B14: Datum podání žádosti o dotaci
A15: II. | B15: Způsob pořízení dle § 2 NV
A16: III. | B16: Režim podpory dotace dle § 6 písm. a) NV
A17: IV. | B17: Režim podpory úvěru dle § 6 písm. b) NV
A18: V. | B18: V režimu de minimis vyčerpáno aktuálně (EUR) | C18: 0
A19: VI. | B19: Podlahová plocha sociálních bytů celkem v m2 | C19: ='Tabulka podlahových ploch'!C16 -> 0
A21: DOTACE
A22: VII. | B22: Celkové způsobilé náklady SOCIÁLNÍ BYTY (Kč) | C22: =IF(D15='Výpočtový list'!B14,'Výpočtový list'!B44,'Výpočtový list'!B43) -> #DIV/0!
A23: VIII. | B23: Maximální výše dotace v režimu de minimis SOHZ (Kč) - orientační výpočet dle aktuálního CZK/EUR | C23: 0 | D23: ='Výpočtový list'!B62 -> #DIV/0!
A24: IX. | B24: Maximální výše dotace v režimu vyrovnávací platby SOHZ (Kč) | C24: ='Výpočtový list'!B50 -> #DIV/0!
A25: X. | B25: Požadovaná výše dotace (Kč) | C25: 0
A27: ÚVĚR
A28: XI. | B28: Celkové způsobilé náklady DOSTUPNÉ BYTY (Kč) | C28: =IF(D15='Výpočtový list'!B14,'Výpočtový list'!H44,'Výpočtový list'!H43) -> #DIV/0!
A29: XII. | B29: Maximální výše úvěru (Kč) - v případě úvěru v režimu de minimis bude stanoveno po podání žádosti | C29: ='Výpočtový list'!H47 -> #DIV/0!
A30: XIII. | B30: Požadovaná výše úvěru (Kč) | C30: 0
B34: ……………………………………………………………………………. | D34: …………………………………..
B35: jméno (vypsat) a podpis oprávněného zástupce žadatele o podporu | D35: datum

Sheet Výpočtový list
B3: Způsob stanovení způsobilých nákladů - seznam
B4: dle položkového rozpočtu
B5: poměrovou částí podlahových ploch
B6: dle ceny kupní nebo zjištěné
B7: poměrovou částí podlahových ploch
B9: Způsob pořízení - seznam
B10: l) 1. novostavba
B11: l) 2. stavební úprava prostor určených k jiným účelům než k bydlení
B12: l) 4. stavební úprava bytového domu nezpůsobilého k bydlení
B13: k) modernizace
B14: k) koupě
B16: Forma dotace - seznam | H16: Forma úvěru - seznam
B17: de minimis SOHZ | H17: de minimis
B18: vyrovnávací platba SOHZ | H18: investiční podpora na místní infrastrukturu
B21: Průměrné náklady na m2 | C21: Výběr | D21: 2021 | E21: 2020 | F21: 2019 | G21: 2018
B22: l) 1. novostavba | C22: =IF('Výpočet dotace a úvěru'!$C$14:$D$14="",0,IF('Výpočet dotace a úvěru'!$C$14:$D$14<=DATEVALUE("30.09.2020"),G22,IF('Výpočet dotace a úvěru'!$C$14:$D$14<=DATEVALUE("30.09.2021"),F22,IF('Výpočet dotace a úvěru'!$C$14:$D$14<=DATEVALUE("30.09.2022"),E22,D22)))) -> 0 | D22: 44300 | E22: 40300 | F22: 33321 | G22: 32989
B23: l) 2. stavební úprava prostor určených k jiným účelům než k bydlení | C23: =IF('Výpočet dotace a úvěru'!$C$14:$D$14="",0,IF('Výpočet dotace a úvěru'!$C$14:$D$14<=DATEVALUE("30.09.2020"),G23,IF('Výpočet dotace a úvěru'!$C$14:$D$14<=DATEVALUE("30.09.2021"),F23,IF('Výpočet dotace a úvěru'!$C$14:$D$14<=DATEVALUE("30.09.2022"),E23,D23)))) -> 0 | D23: 31600 | E23: 27200 | F23: 24590 | G23: 29307
B24: l) 3. nástavba nebo přístavba | C24: =IF('Výpočet dotace a úvěru'!$C$14:$D$14="",0,IF('Výpočet dotace a úvěru'!$C$14:$D$14<=DATEVALUE("30.09.2020"),G24,IF('Výpočet dotace a úvěru'!$C$14:$D$14<=DATEVALUE("30.09.2021"),F24,IF('Výpočet dotace a úvěru'!$C$14:$D$14<=DATEVALUE("30.09.2022"),E24,D24)))) -> 0 | D24: 31600 | E24: 27200 | F24: 24590 | G24: 29307
B25: l) 4. stavební úprava bytového domu nezpůsobilého k bydlení | C25: =IF('Výpočet dotace a úvěru'!$C$14:$D$14="",0,IF('Výpočet dotace a úvěru'!$C$14:$D$14<=DATEVALUE("30.09.2020"),G25,IF('Výpočet dotace a úvěru'!$C$14:$D$14<=DATEVALUE("30.09.2021"),F25,IF('Výpočet dotace a úvěru'!$C$14:$D$14<=DATEVALUE("30.09.2022"),E25,D25)))) -> 0 | D25: 31600 | E25: 27200 | F25: 24590 | G25: 29307
B26: k) modernizace | C26: =IF('Výpočet dotace a úvěru'!$C$14:$D$14="",0,IF('Výpočet dotace a úvěru'!$C$14:$D$14<=DATEVALUE("30.09.2020"),G26,IF('Výpočet dotace a úvěru'!$C$14:$D$14<=DATEVALUE("30.09.2021"),F26,IF('Výpočet dotace a úvěru'!$C$14:$D$14<=DATEVALUE("30.09.2022"),E26,D26)))) -> 0 | D26: 22150 | E26: 20150 | F26: 16660.5 | G26: 16495
B27: k) koupě | C27: =IF('Výpočet dotace a úvěru'!$C$14:$D$14="",0,IF('Výpočet dotace a úvěru'!$C$14:$D$14<=DATEVALUE("30.09.2020"),G27,IF('Výpočet dotace a úvěru'!$C$14:$D$14<=DATEVALUE("30.09.2021"),F27,IF('Výpočet dotace a úvěru'!$C$14:$D$14<=DATEVALUE("30.09.2022"),E27,D27)))) -> 0 | D27: 44300 | E27: 40300 | F27: 33321 | G27: 32989
B31: SOCIÁLNÍ BYTY | H31: DOSTUPNÉ BYTY
B32: Uživatelem zvolené parametry
B33: Typ pořízení
B34: ='Výpočet dotace a úvěru'!C15 -> 0
B36: Celková plocha sociálních bytů v m2
B37: ='Tabulka podlahových ploch'!C16 -> 0
B39: Průměrné náklady na m2
B40: =IF('Výpočet dotace a úvěru'!C15="l) 1. novostavba",C22,(IF('Výpočet dotace a úvěru'!C15="l) 2. stavební úprava prostor určených k jiným účelům než k bydlení",C23,IF('Výpočet dotace a úvěru'!C15="l) 3. nástavba nebo přístavba",C24,IF('Výpočet dotace a úvěru'!C15="l) 4. stavební úprava bytového domu nezpůsobilého k bydlení",C25,IF('Výpočet dotace a úvěru'!C15="k) modernizace",C26,IF('Výpočet dotace a úvěru'!C15="k) koupě",C27,0))))))) -> 0
B42: Celkové způsobile náklady SOCIÁLNÍ BYTY | H42: Celkové způsobile náklady DOSTUPNÉ BYTY
B43: =IF('Členění nákladů A'!B5="dle položkového rozpočtu",'Členění nákladů A'!#REF!,'Členění nákladů A'!B15) -> #DIV/0! | H43: =IF('Členění nákladů A'!B5="dle položkového rozpočtu",'Členění nákladů A'!#REF!,'Členění nákladů A'!B16) -> #DIV/0!
B44: ='Členění nákladů B'!B12 -> #DIV/0! | H44: ='Členění nákladů B'!B13 -> #DIV/0!
B45: =IF(B34=B14,B44,B43) -> #DIV/0! | H45: =IF(B34=B14,H44,H43) -> #DIV/0!
B46: Maximální výše dotace dle m2 | H46: Maximální výše úvěru
B47: =B37*B40 -> 0 | H47: =H45 -> #DIV/0!
B49: Maximální výše dotace po kontrole na Celkové způsobilé náklady
B50: =IF(B47>B45,B45,B47) -> #DIV/0!
B52: Volné prostředky v režimu de minimis SOHZ (EUR) | H52: Volné prostředky v režimu de minimis (EUR)
B53: =500000-'Výpočet dotace a úvěru'!C18 -> 500000 | H53: =IF(B65<200000,200000-B65,0) -> #DIV/0!
B55: Volné prostředky v režimu de minimis SOHZ (CZK) | H55: Volné prostředky v režimu de minimis (CZK)
...
