Workbook

Sheet Dotace
B1: Žadatel:
A5: Členění nákladů k nařízení vlády č. 390/2017 Sb., ve znění pozdějších předpisů
A6: Režim dotace - maximálně 50% z celkových uznatelných nákladů a max. 6 mil
E7: v Kč
A8: Náklady uznatelné
A9: Stanovené dle nařízení vlády | B9: Celkové uznatelné náklady | C9: Uhrazené žadatelem do podpisu smlouvy o dotaci | D9: Výše úhrad z dotace od SFPI | E9: Výše úhrad ze zdrojů žadatele po podpisu smlouvy o dotaci
A10: 1. Výstavba a rekonstrukce dopravní infrastruktury , viz NV | D10: =IF(SUM(B10-C10)>0,SUM(B10-C10)*$B$27,0) -> 0 | E10: =IF(SUM(B10-C10-D10)<0,0,SUM(B10-C10-D10)) -> 0
A11: 1. Oprava nebo výstavba místních komunikací, chodníků a cyklostezek | D11: =IF(SUM(B11-C11)>0,SUM(B11-C11)*$B$27,0) -> 0 | E11: =IF(SUM(B11-C11-D11)<0,0,SUM(B11-C11-D11)) -> 0
A12: 1. Výstavba a rekonstrukce protihlukových stěn | D12: =IF(SUM(B12-C12)>0,SUM(B12-C12)*$B$27,0) -> 0 | E12: =IF(SUM(B12-C12-D12)<0,0,SUM(B12-C12-D12)) -> 0
A13: 1 .Výstavba, rozšíření a rekonstrukce odstavných a parkovacích stání | D13: 0 | E13: =IF(SUM(B13-C13-D13)<0,0,SUM(B13-C13-D13)) -> 0
A14: 2. Výstavba a rekonstrukce technické infrastruktury | D14: =IF(SUM(B14-C14)>0,SUM(B14-C14)*$B$27,0) -> 0 | E14: =IF(SUM(B14-C14-D14)<0,0,SUM(B14-C14-D14)) -> 0
A15: 2. Opatření pro zachování nebo zvýšení celkového podílu nezpevněných ploch z důvodu ochrany mikroklimatu a zpomalení odtoku přívalových vod | D15: =IF(SUM(B15-C15)>0,SUM(B15-C15)*$B$27,0.00000000001) -> 1e-11 | E15: =IF(SUM(B15-C15-D15)<0,0,SUM(B15-C15-D15)) -> 0
A16: 3. Odstranění nadzemního vedení vysokého napětí a jeho nahrazení podzemním vedením | D16: =IF(SUM(B16-C16)>0,SUM(B16-C16)*$B$27,0) -> 0 | E16: =IF(SUM(B16-C16-D16)<0,0,SUM(B16-C16-D16)) -> 0
A17: 4. Oprava nebo doplnění veřejného osvětlení | D17: =IF(SUM(B17-C17)>0,SUM(B17-C17)*$B$27,0) -> 0 | E17: =IF(SUM(B17-C17-D17)<0,0,SUM(B17-C17-D17)) -> 0
A18: 5. Realizace místních protipovodňových opatření | D18: =IF(SUM(B18-C18)>0,SUM(B18-C18)*$B$27,0) -> 0 | E18: =IF(SUM(B18-C18-D18)<0,0,SUM(B18-C18-D18)) -> 0
A19: 6. Realizace opatření pro zvýšení bezpečnosti sídliště | D19: =IF(SUM(B19-C19)>0,SUM(B19-C19)*$B$27,0) -> 0 | E19: =IF(SUM(B19-C19-D19)<0,0,SUM(B19-C19-D19)) -> 0
A20: 7. Úprava veřejných prostranství | D20: =IF(SUM(B20-C20)>0,SUM(B20-C20)*$B$27,0) -> 0 | E20: =IF(SUM(B20-C20-D20)<0,0,SUM(B20-C20-D20)) -> 0
A21: 7. Dětská hřiště a odpočinkové plochy | D21: =IF(SUM(B21-C21)>0,SUM(B21-C21)*$B$27,0) -> 0 | E21: =IF(SUM(B21-C21-D21)<0,0,SUM(B21-C21-D21)) -> 0
A22: 8. Výstavba veřejných sportovních a rekreačních ploch s příslušným městským mobiliářem a navazující doprovodné úpravy ploch veřejné zeleně spojené s výsadbou stromů a zatravněním | D22: =IF(SUM(B22-C22)>0,SUM(B22-C22)*$B$27,0) -> 0 | E22: =IF(SUM(B22-C22-D22)<0,0,SUM(B22-C22-D22)) -> 0
A23: Ostatní výše neuvedené (pouze uznatelné) | D23: =IF(SUM(B23-C23)>0,SUM(B23-C23)*$B$27,0) -> 0 | E23: =IF(SUM(B23-C23-D23)<0,0,SUM(B23-C23-D23)) -> 0
A24: Celkem UZNATELNÉ NÁKLADY | B24: =IF(SUM(B10:B23)=0,0,SUM(B10:B23)) -> 0 | C24: =SUM(C10:C23) -> 0 | D24: =SUM(D10:D23) -> 1e-11 | E24: =SUM(E10:E23) -> 0
A26: Maximální výše dotace od SFPI z celkových uznatelných nákladů 50% | B26: =IF(0.5*B24<=6000000,0.5*B24,6000000) -> 0 | D26: Požadovaná výše dotace
A27: % úhrad z dotace SFPI z neuhrazených uznatelných nákladů | B27: =IF(E26>0,E26/(B24-C24),0) -> 0 | E27: =IF(E26>B26,"CHYBNÝ ÚDAJ","OK") -> OK
A28: Náklady nad rámec nákladů uznatelných pro určení výše celkových nákladů (neuznatelné náklady) | B28: Celkové | C28: Uhrazené žadatelem do podpisu smlouvy o dotaci
A29: Veškerá dokumentace související s projektem, projektovou dokumentací a skutečného provedení stavby
A30: Vytyčení stavby geodetem, vytyčení inženýrských sítí a geometrický plán
A31: Nadzemní či podzemní garáže v rámci samotného objektu (panelového domu), parkovací dům
A32: Náklady na stavební dozor, technický dozor investora, dozor bezpečnosti práce a technika pro pozemní či dopravní stavby
A33: Výdaje na průzkumy, posudky, vydání povolení a analýzy a geologický průzkum
A34: Výdaje na uzavření kupní smlouvy, smlouvy o smlouvě budoucí ke koupi nemovité věci
A35: Provozní a režijní náklady obce/města
A36: Daně, poplatky a jiná obdobná pěněžitá plnění, která platí obec/město jejich správci (částečné DPH)
A37: Výdaje vzniklé nad rámec schváleného rozpočtu - vícepráce
A38: Veškerá následná péče o zeleň
A39: Jednání se správci inženýrských sítí
A40: Podzemní kontejnery, podzemní nádoby a třídění odpadu
... A43: Provedení zkoušek potřebných k provedení díla
A44: Celkem NEUZNATELNÉ NÁKLADY | B44: =SUM(B29:B43) -> 0 | C44: =SUM(C29:C43) -> 0
A46: CELKEM | B46: =B24+B44 -> 0 | C46: =C24+C44 -> 0
A48: Jsem osobou nebo skupinou povinnou k dani dle §5 zákona 235/2004 Sb. (dále jen plátce) a nejsem osoba osvobozená dle §6 | E48: ANO/NE
A49: Jsem plátce, který neuplatňuje nárok na odpočet DPH. Neuplatňuji daň na vstupu v případě akce uvedené v žádosti o dotaci | E49: ANO/NE
A51: Vypracoval (jméno) : | B51: Datum : | D51: Podpis :

Sheet Dotace a úvěr
B3: Žadatel:
A5: Členění nákladů k nařízení vlády č. 390/2017 Sb., ve znění pozdějších předpisů
A6: Režim dotace a úvěru - maximálně 90% z celkových uznatelných nákladů
E7: v Kč
A8: Náklady uznatelné
A9: Stanovené dle nařízení vlády | B9: Celkové uznatelné náklady | C9: Uhrazené žadatelem do podpisu smlouvy o dotaci | D9: Výše úhrad z dotace od SFPI | E9: Výše úhrad z úvěru | F9: Výše úhrad ze zdrojů žadatele po podpisu smlouvy o dotaci
A10: 1. Výstavba a rekonstrukce dopravní infrastruktury , viz NV | B10: =Dotace!B10 -> 0 | C10: =Dotace!C10 -> 0 | D10: =Dotace!D10 -> 0 | E10: =IF((SUM(B10-C10-D10)*$E$27/SUM($B$24-$C$24-$D$24))>0,SUM(B10-C10-D10)*$E$27/SUM($B$24-$C$24-$D$24),0) -> 0 | F10: =IF(SUM(B10-C10-D10-E10)<0,0,SUM(B10-C10-D10-E10)) -> 0
A11: 1. Oprava nebo výstavba místních komunikací, chodníků a cyklostezek | B11: =Dotace!B11 -> 0 | C11: =Dotace!C11 -> 0 | D11: =Dotace!D11 -> 0 | E11: =IF((SUM(B11-C11-D11)*$E$27/SUM($B$24-$C$24-$D$24))>0,SUM(B11-C11-D11)*$E$27/SUM($B$24-$C$24-$D$24),0) -> 0 | F11: =IF(SUM(B11-C11-D11-E11)<0,0,SUM(B11-C11-D11-E11)) -> 0
A12: 1. Výstavba a rekonstrukce protihlukových stěn | B12: =Dotace!B12 -> 0 | C12: =Dotace!C12 -> 0 | D12: =Dotace!D12 -> 0 | E12: =IF((SUM(B12-C12-D12)*$E$27/SUM($B$24-$C$24-$D$24))>0,SUM(B12-C12-D12)*$E$27/SUM($B$24-$C$24-$D$24),0) -> 0 | F12: =IF(SUM(B12-C12-D12-E12)<0,0,SUM(B12-C12-D12-E12)) -> 0
A13: 1 .Výstavba, rozšíření a rekonstrukce odstavných a parkovacích stání | B13: =Dotace!B13 -> 0 | C13: =Dotace!C13 -> 0 | D13: =Dotace!D13 -> 0 | E13: =IF((SUM(B13-C13-D13)*$E$27/SUM($B$24-$C$24-$D$24))>0,SUM(B13-C13-D13)*$E$27/SUM($B$24-$C$24-$D$24),0) -> 0 | F13: =IF(SUM(B13-C13-D13-E13)<0,0,SUM(B13-C13-D13-E13)) -> 0
A14: 2. Výstavba a rekonstrukce technické infrastruktury | B14: =Dotace!B14 -> 0 | C14: =Dotace!C14 -> 0 | D14: =Dotace!D14 -> 0 | E14: =IF((SUM(B14-C14-D14)*$E$27/SUM($B$24-$C$24-$D$24))>0,SUM(B14-C14-D14)*$E$27/SUM($B$24-$C$24-$D$24),0) -> 0 | F14: =IF(SUM(B14-C14-D14-E14)<0,0,SUM(B14-C14-D14-E14)) -> 0
A15: 2. Opatření pro zachování nebo zvýšení celkového podílu nezpevněných ploch z důvodu ochrany mikroklimatu a zpomalení odtoku přívalových vod | B15: =Dotace!B15 -> 0 | C15: =Dotace!C15 -> 0 | D15: =Dotace!D15 -> 1e-11 | E15: =IF((SUM(B15-C15-D15)*$E$27/SUM($B$24-$C$24-$D$24))>0,SUM(B15-C15-D15)*$E$27/SUM($B$24-$C$24-$D$24),0) -> 0 | F15: =IF(SUM(B15-C15-D15-E15)<0,0,SUM(B15-C15-D15-E15)) -> 0
A16: 3. Odstranění nadzemního vedení vysokého napětí a jeho nahrazení podzemním vedením | B16: =Dotace!B16 -> 0 | C16: =Dotace!C16 -> 0 | D16: =Dotace!D16 -> 0 | E16: =IF((SUM(B16-C16-D16)*$E$27/SUM($B$24-$C$24-$D$24))>0,SUM(B16-C16-D16)*$E$27/SUM($B$24-$C$24-$D$24),0) -> 0 | F16: =IF(SUM(B16-C16-D16-E16)<0,0,SUM(B16-C16-D16-E16)) -> 0
A17: 4. Oprava nebo doplnění veřejného osvětlení | B17: =Dotace!B17 -> 0 | C17: =Dotace!C17 -> 0 | D17: =Dotace!D17 -> 0 | E17: =IF((SUM(B17-C17-D17)*$E$27/SUM($B$24-$C$24-$D$24))>0,SUM(B17-C17-D17)*$E$27/SUM($B$24-$C$24-$D$24),0) -> 0 | F17: =IF(SUM(B17-C17-D17-E17)<0,0,SUM(B17-C17-D17-E17)) -> 0
A18: 5. Realizace místních protipovodňových opatření | B18: =Dotace!B18 -> 0 | C18: =Dotace!C18 -> 0 | D18: =Dotace!D18 -> 0 | E18: =IF((SUM(B18-C18-D18)*$E$27/SUM($B$24-$C$24-$D$24))>0,SUM(B18-C18-D18)*$E$27/SUM($B$24-$C$24-$D$24),0) -> 0 | F18: =IF(SUM(B18-C18-D18-E18)<0,0,SUM(B18-C18-D18-E18)) -> 0
A19: 6. Realizace opatření pro zvýšení bezpečnosti sídliště | B19: =Dotace!B19 -> 0 | C19: =Dotace!C19 -> 0 | D19: =Dotace!D19 -> 0 | E19: =IF((SUM(B19-C19-D19)*$E$27/SUM($B$24-$C$24-$D$24))>0,SUM(B19-C19-D19)*$E$27/SUM($B$24-$C$24-$D$24),0) -> 0 | F19: =IF(SUM(B19-C19-D19-E19)<0,0,SUM(B19-C19-D19-E19)) -> 0
A20: 7. Úprava veřejných prostranství | B20: =Dotace!B20 -> 0 | C20: =Dotace!C20 -> 0 | D20: =Dotace!D20 -> 0 | E20: =IF((SUM(B20-C20-D20)*$E$27/SUM($B$24-$C$24-$D$24))>0,SUM(B20-C20-D20)*$E$27/SUM($B$24-$C$24-$D$24),0) -> 0 | F20: =IF(SUM(B20-C20-D20-E20)<0,0,SUM(B20-C20-D20-E20)) -> 0
A21: 7. Dětská hřiště a odpočinkové plochy | B21: =Dotace!B21 -> 0 | C21: =Dotace!C21 -> 0 | D21: =Dotace!D21 -> 0 | E21: =IF((SUM(B21-C21-D21)*$E$27/SUM($B$24-$C$24-$D$24))>0,SUM(B21-C21-D21)*$E$27/SUM($B$24-$C$24-$D$24),0) -> 0 | F21: =IF(SUM(B21-C21-D21-E21)<0,0,SUM(B21-C21-D21-E21)) -> 0
... A23: Ostatní výše neuvedené (pouze uznatelné) | B23: =Dotace!B23 -> 0 | C23: =Dotace!C23 -> 0 | D23: =Dotace!D23 -> 0 | E23: =IF((SUM(B23-C23-D23)*$E$27/SUM($B$24-$C$24-$D$24))>0,SUM(B23-C23-D23)*$E$27/SUM($B$24-$C$24-$D$24),0) -> 0 | F23: =IF(SUM(B23-C23-D23-E23)<0,0,SUM(B23-C23-D23-E23)) -> 0
A24: Celkem UZNATELNÉ NÁKLADY | B24: =IF(SUM(B10:B23)=0,0,SUM(B10:B23)) -> 0 | C24: =SUM(C10:C23) -> 0 | D24: =SUM(D10:D23) -> 1e-11 | E24: =IF(SUM(E10:E23)<=0,0,SUM(E10:E23)) -> 0 | F24: =SUM(F10:F23) -> 0
A26: Maximální výše dotace od SFPI z celkových uznatelných nákladů 50% | B26: =IF(0.5*B24<=6000000,0.5*B24,6000000) -> 0 | D26: Požadovaná výše dotace
A27: % úhrad z dotace SFPI z neuhrazených uznatelných nákladů | B27: =IF(E26=0,0,E26/(B24-C24)) -> 0 | D27: Požadovaná výše úvěru | F27: =IF(E27<=B28+0.00000000001,"OK","chybný údaj ") -> OK
A28: Maximální výše úvěru od SFPI - 90% součet dotace a úvěru - z celkových uznatelných nákladů | B28: =(B24*0.9)-B26 -> 0
A30: Náklady nad rámec nákladů uznatelných pro určení výše celkových nákladů | B30: Celkové | C30: Uhrazené žadatelem do podpisu smlouvy o dotaci
A31: Veškerá dokumentace související s projektem, projektovou dokumentací a skutečného provedení stavby | B31: =Dotace!B29 -> 0 | C31: =Dotace!C29 -> 0
A32: Vytyčení stavby geodetem, vytyčení inženýrských sítí a geometrický plán | B32: =Dotace!B30 -> 0 | C32: =Dotace!C30 -> 0
A33: Nadzemní či podzemní garáže v rámci samotného objektu (panelového domu), parkovací dům | B33: =Dotace!B31 -> 0 | C33: =Dotace!C31 -> 0
A34: Náklady na stavební dozor, technický dozor investora, technika pro pozemní či dopravní stavby | B34: =Dotace!B32 -> 0 | C34: =Dotace!C32 -> 0
A35: Výdaje na průzkumy, posudky, vydání povolení a analýzy a geologický průzkum | B35: =Dotace!B33 -> 0 | C35: =Dotace!C39 -> 0
A36: Výdaje na uzavření kupní smlouvy, smlouvy o smlouvě budoucí ke koupi nemovité věci | B36: =Dotace!B34 -> 0 | C36: =Dotace!C34 -> 0
A37: Provozní a režijní náklady obce/města | B37: =Dotace!B35 -> 0 | C37: =Dotace!C35 -> 0
A38: Daně, poplatky a jiná obdobná pěněžitá plnění, která platí obec/město jejich správci (částečné DPH) | B38: =Dotace!B36 -> 0 | C38: =Dotace!C36 -> 0
A39: Výdaje vzniklé nad rámec schváleného rozpočtu - vícepráce | B39: =Dotace!B37 -> 0 | C39: =Dotace!C37 -> 0
A40: Veškerá následná péče o zeleň | B40: =Dotace!B38 -> 0 | C40: =Dotace!C44 -> 0
A41: Jednání se správci inženýrských sítí | B41: =Dotace!B39 -> 0 | C41: =Dotace!C39 -> 0
A42: Podzemní kontejnery, podzemní nádoby a třídění odpadu | B42: =Dotace!B40 -> 0 | C42: =Dotace!C40 -> 0
A43: Jakákoliv fotodokumentace | B43: =Dotace!B41 -> 0 | C43: =Dotace!C41 -> 0
A44: Dopravní značení | B44: =Dotace!B42 -> 0 | C44: =Dotace!C42 -> 0
A45: Provedení zkoušek potřebných k provedení díla | B45: =Dotace!B43 -> 0 | C45: =Dotace!C49 -> 0
A46: Celkem NEUZNATELNÝCH NÁKLADŮ | B46: =SUM(B31:B45) -> 0 | C46: =SUM(C31:C45) -> 0
A48: CELKEM | B48: =B24+B46 -> 0 | C48: =C24+C46 -> 0
A50: Vypracoval (jméno) : | B50: Datum : | D50: Podpis :
